BEGIN:VCALENDAR
VERSION:2.0
PRODID:-//ChamberMaster//Event Calendar 2.0//EN
METHOD:PUBLISH
X-PUBLISHED-TTL:P3D
REFRESH-INTERVAL:P3D
CALSCALE:GREGORIAN
BEGIN:VEVENT
DTSTART:20240907T230000Z
DTEND:20240908T020000Z
X-MICROSOFT-CDO-ALLDAYEVENT:FALSE
SUMMARY:Low Compatibility Live Music at Eastside Social
DESCRIPTION:Low Compatibility is back to jam out at Eastside Social. Make your plans and mark your calendars because this is a night you are not going to want to miss. See you downtown September 7th from 6pm to 9pm
X-ALT-DESC;FMTTYPE=text/html:<span style="font-size:18px"><span style="color:rgb(35\, 31\, 32)\; font-family:brandon-grotesque">Low Compatibility is back to jam out at Eastside Social. Make your plans and mark your calendars because this is a night you are not going to want to miss. See you downtown September 7th from 6pm to 9pm </span></span>
LOCATION:113 S Washington St Neosho\, Mo at Eastside Social
UID:e.2144.13053
SEQUENCE:3
DTSTAMP:20260424T203628Z
URL:https://www.neoshocc.com/events/details/low-compatibility-live-music-at-eastside-social-09-07-2024-13053
END:VEVENT

END:VCALENDAR
