BEGIN:VCALENDAR
VERSION:2.0
PRODID:-//ChamberMaster//Event Calendar 2.0//EN
METHOD:PUBLISH
X-PUBLISHED-TTL:P3D
REFRESH-INTERVAL:P3D
CALSCALE:GREGORIAN
BEGIN:VEVENT
DTSTART:20241128T000000Z
DTEND:20241128T030000Z
X-MICROSOFT-CDO-ALLDAYEVENT:FALSE
SUMMARY:Low Compatibility Live Music at Eastside Social
DESCRIPTION:Kick off your Thanksgiving break with us at Eastside Social! Spend "Drinksgiving" chilling and enjoying live music by Low Compatibility all night. We can't wait to see you on November 27th from 6 PM to 9 PM for a great band and a great time!
X-ALT-DESC;FMTTYPE=text/html:<p>Kick off your Thanksgiving break with us at Eastside Social! Spend &quot\;Drinksgiving&quot\; chilling and enjoying live music by Low Compatibility all night. We can&rsquo\;t wait to see you on November 27th from 6 PM to 9 PM for a great band and a great time!</p>\n
LOCATION:Eastside Social 113 S Washington St. Neosho\, Mo
UID:e.2144.13751
SEQUENCE:3
DTSTAMP:20260424T173709Z
URL:https://www.neoshocc.com/events/details/low-compatibility-live-music-at-eastside-social-11-27-2024-13751
END:VEVENT

END:VCALENDAR
