BEGIN:VCALENDAR
VERSION:2.0
PRODID:-//ChamberMaster//Event Calendar 2.0//EN
METHOD:PUBLISH
X-PUBLISHED-TTL:P3D
REFRESH-INTERVAL:P3D
CALSCALE:GREGORIAN
BEGIN:VEVENT
DTSTART:20240719T230000Z
DTEND:20240720T020000Z
X-MICROSOFT-CDO-ALLDAYEVENT:FALSE
SUMMARY:Low Compatibility Live Music at Eastside Social
DESCRIPTION:Mark your calendars for July 19th because Low Compatibility will be back to jam out at Eastside Social. You will not want to miss out on the great music and fun times that will be had out on the patio.
X-ALT-DESC;FMTTYPE=text/html:Mark your calendars for July 19th because Low Compatibility will be back to jam out at Eastside Social. You will not want to miss out on the great music and fun times that will be had out on the patio.&nbsp\;
LOCATION:113 S Washington St Neosho\, Mo
UID:e.2144.12187
SEQUENCE:3
DTSTAMP:20260424T232758Z
URL:https://www.neoshocc.com/events/details/low-compatibility-live-music-at-eastside-social-12187
END:VEVENT

END:VCALENDAR
