BEGIN:VCALENDAR
VERSION:2.0
PRODID:-//ChamberMaster//Event Calendar 2.0//EN
METHOD:PUBLISH
X-PUBLISHED-TTL:P3D
REFRESH-INTERVAL:P3D
CALSCALE:GREGORIAN
BEGIN:VEVENT
DTSTART;VALUE=DATE:20250315
DTEND;VALUE=DATE:20250316
TRANSP:TRANSPARENT
X-MICROSOFT-CDO-ALLDAYEVENT:TRUE
SUMMARY:Luck of the Irish
DESCRIPTION:For the Month of March.  When you stop by Anvil Axe Co\, you'll get a chance to draw from our Pot of Gold and claim a special discount on your lane! \n\n\n\nThat's not all............while you're here\, you can put your name in the hat for a chance to win DINNER FOR 2 AT TEXAS ROADHOUSE!
X-ALT-DESC;FMTTYPE=text/html:For the Month of March.&nbsp\; When you stop by <strong>Anvil Axe Co</strong>\, you'll get a chance to draw from our<strong> Pot of Gold </strong>and claim a special discount on your lane!&nbsp\;<br>\n<br>\nThat's not all............while you're here\, you can put your name in the hat for a chance to win DINNER FOR 2 AT TEXAS ROADHOUSE!
LOCATION:Anvil Axe Co. 7837 Gateway Drive Neosho\, MO 64850
UID:e.2144.16360
SEQUENCE:3
DTSTAMP:20260424T133230Z
URL:https://www.neoshocc.com/events/details/luck-of-the-irish-03-15-2025-16360
END:VEVENT

END:VCALENDAR
