BEGIN:VCALENDAR
VERSION:2.0
PRODID:-//ChamberMaster//Event Calendar 2.0//EN
METHOD:PUBLISH
X-PUBLISHED-TTL:P3D
REFRESH-INTERVAL:P3D
CALSCALE:GREGORIAN
BEGIN:VEVENT
DTSTART:20250620T163000Z
DTEND:20250620T180000Z
X-MICROSOFT-CDO-ALLDAYEVENT:FALSE
SUMMARY:Lunch & Listen at the Hatchery
DESCRIPTION:Bring our lunch and enjoy a free come and go picnic concert featuring live music from Jim Graham! \n\n\n\nNeosho National Fish Hatchery\n\nEast Mckinney Street\n\nNeosho\, Mo. \n\n\n\nMusic at the Pavillion \n\nFriday\, June 20th\, 2025\n\nMusic starts at 11:30am\n\nAn all ages concert\, bring your own lawn chair!
X-ALT-DESC;FMTTYPE=text/html:Bring our lunch and enjoy a free come and go picnic concert featuring live music from Jim Graham!&nbsp\;<br />\n<br />\nNeosho National Fish Hatchery<br />\nEast Mckinney Street<br />\nNeosho\, Mo.&nbsp\;<br />\n<br />\nMusic at the Pavillion&nbsp\;<br />\nFriday\, June 20th\, 2025<br />\nMusic starts at 11:30am<br />\nAn all ages concert\, bring your own lawn chair!&nbsp\;
LOCATION:Neosho National Fish Hatchery East Mckinney Street Neosho\, Mo. 64850
UID:e.2144.16649
SEQUENCE:3
DTSTAMP:20260424T092149Z
URL:https://www.neoshocc.com/events/details/lunch-listen-at-the-hatchery-16649
END:VEVENT

END:VCALENDAR
