BEGIN:VCALENDAR
VERSION:2.0
PRODID:-//ChamberMaster//Event Calendar 2.0//EN
METHOD:PUBLISH
X-PUBLISHED-TTL:P3D
REFRESH-INTERVAL:P3D
CALSCALE:GREGORIAN
BEGIN:VEVENT
DTSTART:20250921T010000Z
DTEND:20250921T040000Z
X-MICROSOFT-CDO-ALLDAYEVENT:FALSE
SUMMARY:Lyal Strickland Live at Osage Spring
DESCRIPTION:Lyal Strickland is an Americana singer-songwriter\, whose music is as authentic as the Ozark hills from which it hails. With a background deeply embedded in the rural landscapes of Missouri\, his lyrics resonate with the experiences of small-town life\, weaving tales of struggle\, resilience\, and the unyielding human spirit. Strickland's songs are a reflection of his upbringing in a small town\, where the values and hardships of rural life imbue every note and word.
X-ALT-DESC;FMTTYPE=text/html:<span style="background-color:rgb(107\, 39\, 38)\; color:rgb(220\, 73\, 71)\; font-family:acumin-pro\; font-size:16.16px">Lyal Strickland is an Americana singer-songwriter\, whose music is as authentic as the Ozark hills from which it hails. With a background deeply embedded in the rural landscapes of Missouri\, his lyrics resonate with the experiences of small-town life\, weaving tales of struggle\, resilience\, and the unyielding human spirit. Strickland&rsquo\;s songs are a reflection of his upbringing in a small town\, where the values and hardships of rural life imbue every note and word.</span>
LOCATION:200 e Spring Street Neosho\, MO 64850
UID:e.2144.18492
SEQUENCE:3
DTSTAMP:20260424T030425Z
URL:https://www.neoshocc.com/events/details/lyal-strickland-live-at-osage-spring-18492
END:VEVENT

END:VCALENDAR
