BEGIN:VCALENDAR
VERSION:2.0
PRODID:-//ChamberMaster//Event Calendar 2.0//EN
METHOD:PUBLISH
X-PUBLISHED-TTL:P3D
REFRESH-INTERVAL:P3D
CALSCALE:GREGORIAN
BEGIN:VEVENT
DTSTART:20240621T163000Z
DTEND:20240622T003000Z
X-MICROSOFT-CDO-ALLDAYEVENT:FALSE
SUMMARY:Make Music Day Neosho 2024
DESCRIPTION:Join Neosho Arts Council and celebrate Make Music Day in Neosho on Friday June 21 with 2 free concerts for the whole family! \n\nJazz/blues guitarist Asher Perkins will perform a Lunch & Listen concert starting at 11:30am at the Neosho National Fish Hatchery. This is a come and go concert and everyone is invited to bring their lunch and enjoy the live music!\n\nThen at 6:30pm the award winning soft rock duo Common Roots will be performing live in Neosho's Big Spring Park. \n\nBoth concerts will be about a hour long. Bring a lawn chair or blanket!  For details visit neoshoarts.net. \n\n\n\nMake Music Day is a one-day event where free\, live musical performances\, opportunities to make music and other musical events take place around the world on the longest day of the year. Musical festivities in Neosho are part of a global celebration of music making in over 1\,000 cities globally.
X-ALT-DESC;FMTTYPE=text/html:<p><span style="font-size:12px"><span style="font-family:arial\,helvetica\,sans-serif"><span dir="auto">Join Neosho Arts Council and celebrate Make Music Day in Neosho on Friday June 21 with 2 free concerts for the whole family! </span></span></span></p>\n\n<p><span style="font-size:12px"><span style="font-family:arial\,helvetica\,sans-serif"><span dir="auto">Jazz/blues guitarist Asher Perkins will perform a Lunch &amp\; Listen concert starting at 11:30am at the <a class="x1i10hfl xjbqb8w x1ejq31n xd10rxx x1sy0etr x17r0tee x972fbf xcfux6l x1qhh985 xm0m39n x9f619 x1ypdohk xt0psk2 xe8uvvx xdj266r x11i5rnm xat24cr x1mh8g0r xexx8yu x4uap5 x18d9i69 xkhd6sd x16tdsg8 x1hl2dhg xggy1nq x1a2a7pz x1sur9pj xkrqix3 x1fey0fg xo1l8bm" href="https://www.facebook.com/NeoshoNFH?__cft__[0]=AZXKPvWkkzJdi6Z4jeQNCWhOLVpr0AuSB9EFP3fcouyxDAQ405jFaHzamZOi9fFdK3XhDVuZeU3Rk-nzoVpAoxm66YaLjVQjqn1szZnr3zu0VBsnkm_PfZldV-lbcHifS_KMNfSGkmFZ0oDxB9zykzLkd1yUj7DKnNGdYpIetFx4APxyLdE4F0nQ5NZcYU0NC6R8P5EECH4ecVBBfahxMcXK&amp\;__tn__=-]K-R" tabindex="0">Neosho National Fish Hatchery</a>. This is a come and go concert and everyone is invited to bring their lunch and enjoy the live music!</span></span></span></p>\n\n<p><span style="font-size:12px"><span style="font-family:arial\,helvetica\,sans-serif"><span dir="auto">Then at 6:30pm the award winning soft rock duo Common Roots will be performing live in Neosho&#39\;s Big Spring Park. </span></span></span></p>\n\n<p><span style="font-size:12px"><span style="font-family:arial\,helvetica\,sans-serif"><span dir="auto">Both concerts will be about a hour long. Bring a lawn chair or blanket!&nbsp\; For details visit <a class="x1i10hfl xjbqb8w x1ejq31n xd10rxx x1sy0etr x17r0tee x972fbf xcfux6l x1qhh985 xm0m39n x9f619 x1ypdohk xt0psk2 xe8uvvx xdj266r x11i5rnm xat24cr x1mh8g0r xexx8yu x4uap5 x18d9i69 xkhd6sd x16tdsg8 x1hl2dhg xggy1nq x1a2a7pz x1sur9pj xkrqix3 x1fey0fg" href="http://neoshoarts.net/?fbclid=IwZXh0bgNhZW0CMTAAAR29gG6WEfmX_MEtp3XZ753OCxyust9yqowwuy2krA309s_R07aMlM7J8jY_aem_AbFTRzJJGtgIOgWVDd43opmR1c6__j0eTFUN0tEgCUNeTgyEDNj6llWmDE7nZZvLdmRmHNVvDRHz4oOROasq5ONS" rel="nofollow noreferrer" tabindex="0" target="_blank">neoshoarts.net.</a> </span><br />\n<br />\nMake Music Day is a one-day event where free\, live musical performances\, opportunities to make music and other musical events take place around the world on the longest day of the year. Musical festivities in Neosho are part of a global celebration of music making in over 1\,000 cities globally.</span></span><br />\n<br />\n&nbsp\;</p>\n
LOCATION:Neosho National Fish Hatchery and Big Spring Park
UID:e.2144.12174
SEQUENCE:3
DTSTAMP:20260425T005038Z
URL:https://www.neoshocc.com/events/details/make-music-day-neosho-2024-12174
END:VEVENT

END:VCALENDAR
