BEGIN:VCALENDAR
VERSION:2.0
PRODID:-//ChamberMaster//Event Calendar 2.0//EN
METHOD:PUBLISH
X-PUBLISHED-TTL:P3D
REFRESH-INTERVAL:P3D
CALSCALE:GREGORIAN
BEGIN:VEVENT
DTSTART:20250503T160000Z
DTEND:20250503T200000Z
X-MICROSOFT-CDO-ALLDAYEVENT:FALSE
SUMMARY:Maker's Market
DESCRIPTION:MAKER'S MARKET AT FALCON LAKE FARM GATHERING PLACE
X-ALT-DESC;FMTTYPE=text/html:MAKER&#39\;S MARKET AT FALCON LAKE FARM GATHERING PLACE
LOCATION:8250 IRENE LANE NEOSHO\, MO
UID:e.2144.16419
SEQUENCE:3
DTSTAMP:20260424T092314Z
URL:https://www.neoshocc.com/events/details/maker-s-market-05-03-2025-16419
END:VEVENT

END:VCALENDAR
