BEGIN:VCALENDAR
VERSION:2.0
PRODID:-//ChamberMaster//Event Calendar 2.0//EN
METHOD:PUBLISH
X-PUBLISHED-TTL:P3D
REFRESH-INTERVAL:P3D
CALSCALE:GREGORIAN
BEGIN:VEVENT
DTSTART:20250920T160000Z
DTEND:20250920T200000Z
X-MICROSOFT-CDO-ALLDAYEVENT:FALSE
SUMMARY:Maker's Market
DESCRIPTION:?? Fall is on its way\, and we're kicking off the season with handmade goods\, unique local vendors\, delicious food\, and a festive atmosphere you won't want to miss! Plus\, it's International Eat an Apple Day\, so we're leaning into all things apple   cider\, sweets\, decor\, and more. ???\n\n?? Don't forget to bring a jar of applesauce to support our Applesauce Donation Drive for the Neosho Food Bank   let's stock those shelves together!
X-ALT-DESC;FMTTYPE=text/html:?? Fall is on its way\, and we&rsquo\;re kicking off the season with handmade goods\, unique local vendors\, delicious food\, and a festive atmosphere you won&rsquo\;t want to miss! Plus\, it&rsquo\;s <strong>International Eat an Apple Day</strong>\, so we&rsquo\;re leaning into all things apple &mdash\; cider\, sweets\, decor\, and more. ???<br />\n?? Don&rsquo\;t forget to bring a jar of <strong>applesauce</strong> to support our <strong>Applesauce Donation Drive for the Neosho Food Bank</strong> &mdash\; let&rsquo\;s stock those shelves together!
LOCATION:FALCON LAKE FARM GATHERING PLACE 8250 IRENE LANE NEOSHO\, MO 64850
UID:e.2144.18359
SEQUENCE:3
DTSTAMP:20260424T043137Z
URL:https://www.neoshocc.com/events/details/maker-s-market-09-20-2025-18359
END:VEVENT

END:VCALENDAR
