BEGIN:VCALENDAR
VERSION:2.0
PRODID:-//ChamberMaster//Event Calendar 2.0//EN
METHOD:PUBLISH
X-PUBLISHED-TTL:P3D
REFRESH-INTERVAL:P3D
CALSCALE:GREGORIAN
BEGIN:VEVENT
DTSTART:20250621T143000Z
DTEND:20250621T170000Z
X-MICROSOFT-CDO-ALLDAYEVENT:FALSE
SUMMARY:Market to Tabel 101: Practical Shopping for everyday Meals
DESCRIPTION:Market to Table 101: Practical Shopping for Everyday Meals \n\n\n\nLearn how to shop the farmers market for everyday grocery needs\, choose and use unique and unfamiliar finds\, and adapt your favorite recipe to the seasonality of market produce. \n\n\n\n9:30-10am - Shopping at the market\n\n10-12pm - Cooking at the Library Community Room (Across from the market) \n\n\n\nClass size limited to 20 participants \n\n\n\nEvent timing: Saturday\, June 21st\, 2025 \n\nEvent Address: Neosho Farmers Market\, Corner of Spring & Jefferson St\, Historic Downtown Neosho\, Missouri. \n\nLed By Eden Stewart\, Nutrition & Health Specialist\, University of Missouri Newton County Extension
X-ALT-DESC;FMTTYPE=text/html:Market to Table 101: Practical Shopping for Everyday Meals&nbsp\;<br />\n<br />\nLearn how to shop the farmers market for everyday grocery needs\, choose and use unique and unfamiliar finds\, and adapt your favorite recipe to the seasonality of market produce.&nbsp\;<br />\n<br />\n9:30-10am - Shopping at the market<br />\n10-12pm - Cooking at the Library Community Room (Across from the market)&nbsp\;<br />\n<br />\nClass size limited to 20 participants&nbsp\;<br />\n<br />\nEvent timing: Saturday\, June 21st\, 2025&nbsp\;<br />\nEvent Address: Neosho Farmers Market\, Corner of Spring &amp\; Jefferson St\, Historic Downtown Neosho\, Missouri.&nbsp\;<br />\nLed By Eden Stewart\, Nutrition &amp\; Health Specialist\, University of Missouri Newton County Extension
LOCATION:Neosho Farmers Market\, Corner of Spring & Jefferson St\, Historic Downtown Neosho\, Missouri.
UID:e.2144.16505
SEQUENCE:3
DTSTAMP:20260424T092446Z
URL:https://www.neoshocc.com/events/details/market-to-tabel-101-practical-shopping-for-everyday-meals-16505
END:VEVENT

END:VCALENDAR
