BEGIN:VCALENDAR
VERSION:2.0
PRODID:-//ChamberMaster//Event Calendar 2.0//EN
METHOD:PUBLISH
X-PUBLISHED-TTL:P3D
REFRESH-INTERVAL:P3D
CALSCALE:GREGORIAN
BEGIN:VEVENT
DTSTART:20230421T170000Z
DTEND:20230421T173000Z
X-MICROSOFT-CDO-ALLDAYEVENT:FALSE
SUMMARY:Market Volatility Update with Rachel E. Dobbs
DESCRIPTION:Please join us to discuss the Market Outlook & Opportunities in a bear market.  This is a free event so please share & invite a friend! \n\n\n\nThis is a brief update.  If you have additional questions\, please call our office at 417-455-9320.\n\nYou can also email our Branch Team at:\n\nrachel.dobbs@edwardjones.com or tricia.coffey@edwardjones.com
X-ALT-DESC;FMTTYPE=text/html:Please join us to discuss the Market Outlook &amp\; Opportunities in a bear market.&nbsp\; This is a free event so please share &amp\; invite a friend!&nbsp\;<br />\n<br />\nThis is a brief update.&nbsp\; If you have additional questions\, please call our office at 417-455-9320.<br />\nYou can also email our Branch Team at:<br />\nrachel.dobbs@edwardjones.com or&nbsp\;tricia.coffey@edwardjones.com
LOCATION:Zoom Webinar: Join Zoom Meeting https://edwardjones.zoom.us/j/92245491295?pwd=a3d5cWQycWRFeFZOUGlWTGRNRDFKdz09 Meeting ID: 922 4549 1295 Passcode: 512466 Dial by your location +1 312 626 6799 US (Chicago)
UID:e.2144.9265
SEQUENCE:3
DTSTAMP:20260425T214558Z
URL:https://www.neoshocc.com/events/details/market-volatility-update-with-rachel-e-dobbs-04-21-2023-9265
END:VEVENT

END:VCALENDAR
