BEGIN:VCALENDAR
VERSION:2.0
PRODID:-//ChamberMaster//Event Calendar 2.0//EN
METHOD:PUBLISH
X-PUBLISHED-TTL:P3D
REFRESH-INTERVAL:P3D
CALSCALE:GREGORIAN
BEGIN:VEVENT
DTSTART:20230422T150000Z
DTEND:20230422T190000Z
X-MICROSOFT-CDO-ALLDAYEVENT:FALSE
SUMMARY:May the Forest Be With You
DESCRIPTION:Come out to Wildcat Park to celebrate Earth Day! For this annual event\, we will have the following: a Native Tree Giveaway sponsored by Liberty Utilities\, a Native Plant Sale hosted by Forest Keeling Nursery\, live music\, food trucks\, and numerous booths hosted by organizations from our community. This event is a partnership program between Wildcat Glades\, Chert Glades Missouri Master Naturalists\, Missouri Dept. of Conservation\, the City of Joplin\, Joplin Parks & Recreation and Liberty Utilities. There is no need to register\, just head out to Wildcat Park any time between 10am and 2pm to enjoy the festivities. Please email any questions to maddie@wildcatglades.org.
X-ALT-DESC;FMTTYPE=text/html:Come out to Wildcat Park to celebrate Earth Day! For this annual event\, we will have the following: a Native Tree Giveaway sponsored by Liberty Utilities\, a Native Plant Sale hosted by Forest Keeling Nursery\, live music\, food trucks\, and numerous booths hosted by organizations from our community. This event is a partnership program between Wildcat Glades\, Chert Glades Missouri Master Naturalists\, Missouri Dept. of Conservation\, the City of Joplin\, Joplin Parks &amp\; Recreation and Liberty Utilities. There is no need to register\, just head out to Wildcat Park any time between 10am and 2pm to enjoy the festivities. Please email any questions to <a href="mailto:maddie@wildcatglades.org">maddie@wildcatglades.org</a>.
LOCATION:301 Riviera Drive (Wildcat Park) Joplin\, MO
UID:e.2144.9897
SEQUENCE:3
DTSTAMP:20260425T214241Z
URL:https://www.neoshocc.com/events/details/may-the-forest-be-with-you-9897
END:VEVENT

END:VCALENDAR
