BEGIN:VCALENDAR
VERSION:2.0
PRODID:-//ChamberMaster//Event Calendar 2.0//EN
METHOD:PUBLISH
X-PUBLISHED-TTL:P3D
REFRESH-INTERVAL:P3D
CALSCALE:GREGORIAN
BEGIN:VEVENT
DTSTART:20230529T150000Z
DTEND:20230529T160000Z
X-MICROSOFT-CDO-ALLDAYEVENT:FALSE
SUMMARY:Memorial Day 2023 at the Flag Pole
DESCRIPTION:Memorial Day 2023 at the Flag Pole
X-ALT-DESC;FMTTYPE=text/html:Memorial Day 2023 at the Flag Pole
LOCATION:The Large United States Flag at the corner of US Hwy 60 and State Highway 59 in Neosho
UID:e.2144.9931
SEQUENCE:3
DTSTAMP:20260425T214441Z
URL:https://www.neoshocc.com/events/details/memorial-day-2023-at-the-flag-pole-9931
END:VEVENT

END:VCALENDAR
