BEGIN:VCALENDAR
VERSION:2.0
PRODID:-//ChamberMaster//Event Calendar 2.0//EN
METHOD:PUBLISH
X-PUBLISHED-TTL:P3D
REFRESH-INTERVAL:P3D
CALSCALE:GREGORIAN
BEGIN:VEVENT
DTSTART:20221217T180000Z
DTEND:20221217T200000Z
X-MICROSOFT-CDO-ALLDAYEVENT:FALSE
SUMMARY:Merry Grinchmas Pictures
DESCRIPTION:The Grinch will be at CL Nutrition in Webb City on Saturday 17th from Noon to 2pm. Please bring your kids\, your pawed loved ones\, and yourself for a picture. Then try out something off our Grinchmas Menu.
X-ALT-DESC;FMTTYPE=text/html:The Grinch will be at CL Nutrition in Webb City on Saturday 17th from Noon to 2pm. Please bring your kids\, your pawed loved ones\, and yourself for a picture. Then try out something off our Grinchmas Menu.&nbsp\;
LOCATION:1010 S Madison Suite K Webb City MO 64870
UID:e.2144.8963
SEQUENCE:3
DTSTAMP:20260426T035318Z
URL:https://www.neoshocc.com/events/details/merry-grinchmas-pictures-8963
END:VEVENT

END:VCALENDAR
