BEGIN:VCALENDAR
VERSION:2.0
PRODID:-//ChamberMaster//Event Calendar 2.0//EN
METHOD:PUBLISH
X-PUBLISHED-TTL:P3D
REFRESH-INTERVAL:P3D
CALSCALE:GREGORIAN
BEGIN:VEVENT
DTSTART:20260118T070000Z
DTEND:20260118T080000Z
X-MICROSOFT-CDO-ALLDAYEVENT:FALSE
SUMMARY:Mindfulness & Meditation: Creating a Blissful Mindset
DESCRIPTION:Mindfulness & Meditation: Creating a Blissful Mindset\n\nDate: Sunday\, January 18   1 2 PM CST\n\nQuiet the mind. Open the heart. Return home to yourself.\n\nEvent Description:\n\nDiscover how mindfulness and meditation can shift your mental state from overwhelmed to grounded. In this workshop\, you'll experience simple yet powerful practices you can use anytime to create peace\, clarity\, and emotional balance.\n\nLeave feeling lighter\, centered\, and more connected to yourself.\n\nYou'll Learn:\n\n  Foundational mindfulness practices\n\n  Stress-reduction techniques\n\n  Meditation strategies that fit your lifestyle\n\nWho This Is For:\n\nBeginners\, seasoned practitioners\, and anyone seeking calm and clarity.\n\nCTA:\n\nRegister today and experience a blissful reset.\n\nhttps://www.livebliss.org/event-details/mindfulness-meditation-creating-a-blissful-mindset\n\n#mindfulness #meditation #health #wellness #yoga #community #veteran
X-ALT-DESC;FMTTYPE=text/html:<h3><span style="color:rgb(0\, 0\, 0)"><span style="color:rgb(67\, 67\, 67)\; font-family:arial\,sans-serif\; font-size:14pt">Mindfulness &amp\; Meditation: Creating a Blissful Mindset</span></span></h3>\n\n<p><span style="color:rgb(0\, 0\, 0)"><strong>Date:</strong><span style="font-family:tenor sans\,sans-serif\; font-size:11pt"> Sunday\, January 18 &bull\; 1&ndash\;2 PM CST</span></span></p>\n\n<p><span style="color:rgb(0\, 0\, 0)"><span style="font-family:tenor sans\,sans-serif\; font-size:11pt">Quiet the mind. Open the heart. Return home to yourself.</span></span></p>\n\n<p><span style="color:rgb(0\, 0\, 0)"><strong>Event Description:</strong></span></p>\n\n<p><span style="color:rgb(0\, 0\, 0)"><span style="font-family:tenor sans\,sans-serif\; font-size:11pt">Discover how mindfulness and meditation can shift your mental state from overwhelmed to grounded. In this workshop\, you&rsquo\;ll experience simple yet powerful practices you can use anytime to create peace\, clarity\, and emotional balance.</span></span></p>\n\n<p><span style="color:rgb(0\, 0\, 0)"><span style="font-family:tenor sans\,sans-serif\; font-size:11pt">Leave feeling lighter\, centered\, and more connected to yourself.</span></span></p>\n\n<p><span style="color:rgb(0\, 0\, 0)"><strong>You&rsquo\;ll Learn:</strong></span></p>\n\n<p><span style="color:rgb(0\, 0\, 0)"><span style="font-family:tenor sans\,sans-serif\; font-size:11pt">&bull\; Foundational mindfulness practices</span></span></p>\n\n<p><span style="color:rgb(0\, 0\, 0)"><span style="font-family:tenor sans\,sans-serif\; font-size:11pt">&bull\; Stress-reduction techniques</span></span></p>\n\n<p><span style="color:rgb(0\, 0\, 0)"><span style="font-family:tenor sans\,sans-serif\; font-size:11pt">&bull\; Meditation strategies that fit your lifestyle</span></span></p>\n\n<p><span style="color:rgb(0\, 0\, 0)"><strong>Who This Is For:</strong></span></p>\n\n<p><span style="color:rgb(0\, 0\, 0)"><span style="font-family:tenor sans\,sans-serif\; font-size:11pt">Beginners\, seasoned practitioners\, and anyone seeking calm and clarity.</span></span></p>\n\n<p><span style="color:rgb(0\, 0\, 0)"><strong>CTA:</strong></span></p>\n\n<p><span style="color:rgb(0\, 0\, 0)"><span style="font-family:tenor sans\,sans-serif\; font-size:11pt">Register today and experience a blissful reset.</span></span></p>\n\n<p><span style="color:rgb(0\, 0\, 0)"><a href="https://www.livebliss.org/event-details/mindfulness-meditation-creating-a-blissful-mindset" style="text-decoration: none\;"><u>https://www.livebliss.org/event-details/mindfulness-meditation-creating-a-blissful-mindset</u></a></span></p>\n\n<p><span style="color:rgb(0\, 0\, 0)"><span style="font-family:tenor sans\,sans-serif\; font-size:11pt">#mindfulness #meditation #health #wellness #yoga #community #veteran&nbsp\;</span></span></p>\n
LOCATION:404 S Neosho Blvd Suite D Neosho MO 64850
UID:e.2144.18835
SEQUENCE:3
DTSTAMP:20260423T224608Z
URL:https://www.neoshocc.com/events/details/mindfulness-meditation-creating-a-blissful-mindset-18835
END:VEVENT

END:VCALENDAR
