BEGIN:VCALENDAR
VERSION:2.0
PRODID:-//ChamberMaster//Event Calendar 2.0//EN
METHOD:PUBLISH
X-PUBLISHED-TTL:P3D
REFRESH-INTERVAL:P3D
CALSCALE:GREGORIAN
BEGIN:VEVENT
DTSTART:20230423T000000Z
DTEND:20230423T020000Z
X-MICROSOFT-CDO-ALLDAYEVENT:FALSE
SUMMARY:Miss Jubilee & The Yas Yas Boys
DESCRIPTION:Connect2Culture presents Miss Jubilee & The Yas Yas Boys on Saturday\, April 22\, 7:00pm at the Harry M. Cornell Arts & Entertainment Complex! Miss Jubilee & the Yas Yas Boys pay homage to 1920s and 30s female blues singers\, performing with joy and an infectious energy that prove this old music isn't ready for a museum. Tickets are available at connect2culture.org/tickets or (417) 501-5550.
X-ALT-DESC;FMTTYPE=text/html:Connect2Culture presents Miss Jubilee &amp\; The Yas Yas Boys on Saturday\, April 22\, 7:00pm at the Harry M. Cornell Arts &amp\; Entertainment Complex! Miss Jubilee &amp\; the Yas Yas Boys pay homage to 1920s and 30s female blues singers\, performing with joy and an infectious energy that prove this old music isn&rsquo\;t ready for a museum. Tickets are available at connect2culture.org/tickets or (417) 501-5550.
LOCATION:Harry M. Cornell Arts & Entertainment Complex located at 212 West 7th Street\, Joplin MO
UID:e.2144.9402
SEQUENCE:3
DTSTAMP:20260425T232330Z
URL:https://www.neoshocc.com/events/details/miss-jubilee-the-yas-yas-boys-9402
END:VEVENT

END:VCALENDAR
