BEGIN:VCALENDAR
VERSION:2.0
PRODID:-//ChamberMaster//Event Calendar 2.0//EN
METHOD:PUBLISH
X-PUBLISHED-TTL:P3D
REFRESH-INTERVAL:P3D
CALSCALE:GREGORIAN
BEGIN:VEVENT
DTSTART:20250926T150000Z
DTEND:20250926T170000Z
X-MICROSOFT-CDO-ALLDAYEVENT:FALSE
SUMMARY:Mitchell's Drug Stores Local Resource Fair
DESCRIPTION:Swing by Mitchell's on the Boulevard to visit local entities that will supply community members with various resources and be sure to grab your FREE groceries/produce while you're here! There will be other free items and goodies\, as well as the opportunity to connect with a local Medicare consultant.
X-ALT-DESC;FMTTYPE=text/html:Swing by Mitchell&#39\;s on the Boulevard to visit local entities that will supply community members with various resources and be sure to grab your FREE groceries/produce while you&#39\;re here! There will be other free items and goodies\, as well as the opportunity to connect with a local Medicare consultant.&nbsp\;
LOCATION:719 S Neosho Boulevard Neosho\, MO 64850
UID:e.2144.18499
SEQUENCE:3
DTSTAMP:20260424T030603Z
URL:https://www.neoshocc.com/events/details/mitchell-s-drug-stores-local-resource-fair-18499
END:VEVENT

END:VCALENDAR
