BEGIN:VCALENDAR
VERSION:2.0
PRODID:-//ChamberMaster//Event Calendar 2.0//EN
METHOD:PUBLISH
X-PUBLISHED-TTL:P3D
REFRESH-INTERVAL:P3D
CALSCALE:GREGORIAN
BEGIN:VEVENT
DTSTART:20240516T223000Z
DTEND:20240517T000000Z
X-MICROSOFT-CDO-ALLDAYEVENT:FALSE
SUMMARY:Modern Pop Art Experience and Workshop
DESCRIPTION:Neosho Arts Council is bringing the Modern Pop Art Experience and Workshop to the four states with nationally touring pop artist Michael Albert!\n\n\n\nEnjoy a short presentation on his art.\n\n\n\nTake part in the free hands on pop art collage workshop and make your own piece of art!\n\n\n\nJoin in the creative fun and receive a free signed art poster!\n\n\n\nAll taking place May 16 in Neosho.\n\n\n\nFor more information visit neoshoarts.net.
X-ALT-DESC;FMTTYPE=text/html:Neosho Arts Council is bringing the Modern Pop Art Experience and Workshop to the four states with nationally touring pop artist Michael Albert!<br />\n<br />\nEnjoy a short presentation on his art.<br />\n<br />\nTake part in the free hands on pop art collage workshop and make your own piece of art!<br />\n<br />\nJoin in the creative fun and receive a free signed art poster!<br />\n<br />\nAll taking place May 16 in Neosho.<br />\n<br />\nFor more information visit neoshoarts.net.<br />\n<br />\n&nbsp\;
LOCATION:Neosho Newton County Library - Community Room 201 West Spring St. Neosho\, MO 64850
UID:e.2144.12058
SEQUENCE:3
DTSTAMP:20260425T015436Z
URL:https://www.neoshocc.com/events/details/modern-pop-art-experience-and-workshop-12058
END:VEVENT

END:VCALENDAR
