BEGIN:VCALENDAR
VERSION:2.0
PRODID:-//ChamberMaster//Event Calendar 2.0//EN
METHOD:PUBLISH
X-PUBLISHED-TTL:P3D
REFRESH-INTERVAL:P3D
CALSCALE:GREGORIAN
BEGIN:VEVENT
DTSTART:20240714T223000Z
DTEND:20240715T030000Z
X-MICROSOFT-CDO-ALLDAYEVENT:FALSE
SUMMARY:Monark Baptist Church Independence Celebration
DESCRIPTION:Come join us in celebrating our nation's independence. We will have inflatables and games\, food and live music by Brandon Dorris. Bring your chairs and families and have a great time with us. We have one of the most incredible fireworks shows in the 4 state area.
X-ALT-DESC;FMTTYPE=text/html:Come join us in celebrating our nation&#39\;s independence. We will have inflatables and games\, food and live music by Brandon Dorris. Bring your chairs and families and have a great time with us. We have one of the most incredible fireworks shows in the 4 state area.
LOCATION:Monark Baptist Church. 18472 Linden Dr. Neosho\, MO
UID:e.2144.12207
SEQUENCE:3
DTSTAMP:20260424T232227Z
URL:https://www.neoshocc.com/events/details/monark-baptist-church-independence-celebration-12207
END:VEVENT

END:VCALENDAR
