BEGIN:VCALENDAR
VERSION:2.0
PRODID:-//ChamberMaster//Event Calendar 2.0//EN
METHOD:PUBLISH
X-PUBLISHED-TTL:P3D
REFRESH-INTERVAL:P3D
CALSCALE:GREGORIAN
BEGIN:VEVENT
DTSTART:20240422T230000Z
DTEND:20240423T000000Z
X-MICROSOFT-CDO-ALLDAYEVENT:FALSE
SUMMARY:Monday Night Prayer in Neosho
DESCRIPTION:Each Monday night\, we gather at the Neosho Municipal Auditorium to pray for our nation and our community. The weekly gathering is organized by KNEO Radio of Neosho. As the weather warms\, we may soon move to the courthouse lawn (southeast corner).
X-ALT-DESC;FMTTYPE=text/html:Each Monday night\, we gather at the Neosho Municipal Auditorium to pray for our nation and our community. The weekly gathering is organized by KNEO Radio of Neosho. As the weather warms\, we may soon move to the courthouse lawn (southeast corner).
LOCATION:Neosho Municipal Auditorium 109 W Main St\, Neosho\, MO 64850
UID:e.2144.11423
SEQUENCE:3
DTSTAMP:20260425T031740Z
URL:https://www.neoshocc.com/events/details/monday-night-prayer-in-neosho-04-22-2024-11423
END:VEVENT

END:VCALENDAR
