BEGIN:VCALENDAR
VERSION:2.0
PRODID:-//ChamberMaster//Event Calendar 2.0//EN
METHOD:PUBLISH
X-PUBLISHED-TTL:P3D
REFRESH-INTERVAL:P3D
CALSCALE:GREGORIAN
BEGIN:VEVENT
DTSTART:20251021T163000Z
DTEND:20251021T180000Z
X-MICROSOFT-CDO-ALLDAYEVENT:FALSE
SUMMARY:Monthly Membership Luncheon
DESCRIPTION:You're invited to our October Monthly Membership Luncheon an energizing opportunity to connect with fellow Neosho Area Chamber of Commerce members\, collaborate on ideas\, and grow your local network.\n\nEvent Details:\n\nTuesday\, October 21\, 2025\n\n11:30 AM   1:00 PM\n\nNeosho School District Ag Center\n\n14640 Kodiak Rd\, Neosho\, MO 64850\n\nCost: $20\n\nRSVP today to save your seat!
X-ALT-DESC;FMTTYPE=text/html:<p data-end="379" data-start="179"><span style="font-size:14px\;"><span style="font-family:arial\;">You&rsquo\;re invited to our October Monthly Membership Luncheon&mdash\;an energizing opportunity to connect with fellow Neosho Area Chamber of Commerce members\, collaborate on ideas\, and grow your local network.</span></span></p>\n\n<p data-end="517" data-start="381"><span style="font-size:14px\;"><span style="font-family:arial\;">Event Details:<br data-end="398" data-start="395" />\nTuesday\, October 21\, 2025<br data-end="426" data-start="423" />\n11:30 AM &ndash\; 1:00 PM<br data-end="447" data-start="444" />\nNeosho School District Ag Center<br data-end="482" data-start="479" />\n14640 Kodiak Rd\, Neosho\, MO 64850</span></span></p>\n\n<p data-end="530" data-start="519"><span style="font-size:14px\;"><span style="font-family:arial\;">Cost: $20</span></span></p>\n\n<p data-end="563" data-start="532"><span style="font-size:14px\;"><span style="font-family:arial\;">RSVP today to save your seat!</span></span></p>\n
LOCATION:Neosho School District Ag Center 14646 Kodiak Rd Neosho\, MO 64850
UID:e.2144.16654
SEQUENCE:3
DTSTAMP:20260424T014933Z
URL:https://www.neoshocc.com/events/details/monthly-membership-luncheon-16654
END:VEVENT

END:VCALENDAR
