BEGIN:VCALENDAR
VERSION:2.0
PRODID:-//ChamberMaster//Event Calendar 2.0//EN
METHOD:PUBLISH
X-PUBLISHED-TTL:P3D
REFRESH-INTERVAL:P3D
CALSCALE:GREGORIAN
BEGIN:VEVENT
DTSTART:20260120T173000Z
DTEND:20260120T190000Z
X-MICROSOFT-CDO-ALLDAYEVENT:FALSE
SUMMARY:Monthly Membership Luncheon
DESCRIPTION:Join us for our January Monthly Membership Luncheon!\n\nEnjoy a delicious lunch\, meaningful networking\, and an inspiring program as we hear from Kerry Steuart\, owner of LiveBliss. Kerry will guide us in setting intentions for the new year and finding deeper meaning in both our lives and our work. This is a luncheon you won't want to miss!
X-ALT-DESC;FMTTYPE=text/html:Join us for our January Monthly Membership Luncheon!<br data-end="139" data-start="136" />\nEnjoy a delicious lunch\, meaningful networking\, and an inspiring program as we hear from Kerry Steuart\, owner of LiveBliss. Kerry will guide us in setting intentions for the new year and finding deeper meaning in both our lives and our work. This is a luncheon you won&rsquo\;t want to miss!
LOCATION:11:30 am-1:00 pm Neosho Auditorium 109 W Main St Neosho\, MO 64850
UID:e.2144.18831
SEQUENCE:3
DTSTAMP:20260423T210557Z
URL:https://www.neoshocc.com/events/details/monthly-membership-luncheon-18831
END:VEVENT

END:VCALENDAR
