BEGIN:VCALENDAR
VERSION:2.0
PRODID:-//ChamberMaster//Event Calendar 2.0//EN
METHOD:PUBLISH
X-PUBLISHED-TTL:P3D
REFRESH-INTERVAL:P3D
CALSCALE:GREGORIAN
BEGIN:VEVENT
DTSTART:20260317T163000Z
DTEND:20260317T180000Z
X-MICROSOFT-CDO-ALLDAYEVENT:FALSE
SUMMARY:Monthly Membership Luncheon
DESCRIPTION:Speed Networking was such a hit last time that we're bringing it back!\n\nWe know introducing yourself to people you've never met can feel a little intimidating but don't worry. Speed Networking is designed to be low-pressure and welcoming. No judgment\, no awkward sales pitches just genuine conversations with fellow Chamber members and a chance to build meaningful relationships and community.\n\nJoin us for a great lunch\, then stick around for Speed Networking. You might be surprised how fun and easy making new connections can be!
X-ALT-DESC;FMTTYPE=text/html:<p data-end="70" data-start="0"><span style="font-size:16px\;"><span style="font-family:arial\;">Speed Networking was such a hit last time that we&rsquo\;re bringing it back!</span></span></p>\n\n<p data-end="393" data-start="72"><span style="font-size:16px\;"><span style="font-family:arial\;">We know introducing yourself to people you&rsquo\;ve never met can feel a little intimidating&mdash\;but don&rsquo\;t worry. Speed Networking is designed to be low-pressure and welcoming. No judgment\, no awkward sales pitches&mdash\;just genuine conversations with fellow Chamber members and a chance to build meaningful relationships and community.</span></span></p>\n\n<p data-end="532" data-is-last-node="" data-is-only-node="" data-start="395"><span style="font-size:16px\;"><span style="font-family:arial\;">Join us for a great lunch\, then stick around for Speed Networking. You might be surprised how fun and easy making new connections can be!</span></span></p>\n
LOCATION:Neosho Auditorium
UID:e.2144.18900
SEQUENCE:3
DTSTAMP:20260423T192440Z
URL:https://www.neoshocc.com/events/details/monthly-membership-luncheon-18900
END:VEVENT

END:VCALENDAR
