BEGIN:VCALENDAR
VERSION:2.0
PRODID:-//ChamberMaster//Event Calendar 2.0//EN
METHOD:PUBLISH
X-PUBLISHED-TTL:P3D
REFRESH-INTERVAL:P3D
CALSCALE:GREGORIAN
BEGIN:VEVENT
DTSTART:20250225T173000Z
DTEND:20250225T190000Z
X-MICROSOFT-CDO-ALLDAYEVENT:FALSE
SUMMARY:Monthly Membership Luncheon - The Digital Pulse: Social Media in Business & Community
DESCRIPTION:Join us for February's Membership Luncheon as we explore the growing impact of social media on businesses\, organizations\, and our community. "The Digital Pulse: Social Media in Business & Community" will feature a dynamic panel of local leaders from diverse industries including a boutique\, city government\, a non-profit\, a school district\, and a church who will share their experiences and insights on leveraging social media to thrive in today's digital world.\n\nLearn about:\n\n\n	Success stories and challenges in building an online presence\n	Tips for creating engaging content that connects with your audience\n	Strategies for overcoming common pitfalls and maximizing social impact\n\n\nWhether you're a seasoned social media user or just getting started\, this event offers valuable takeaways to help elevate your online strategy. Don't miss this opportunity to network\, learn\, and be inspired!\n\n  Date: Tuesday\, February 25\, 2025\n\n  Time: 11:30 AM - 1:00 PM\n\n  Location: Wright Conference Center (Crowder College\, Farber Hall\, 601 Laclede Ave.\, Neosho\, MO 64850)\n\nReserve your spot today and discover how social media can transform your business and community connections!\n\n\n\nThank you to our presenting sponsor: Magnolia & Sunshine
X-ALT-DESC;FMTTYPE=text/html:<p>Join us for February&#39\;s Membership Luncheon as we explore the growing impact of social media on businesses\, organizations\, and our community. <strong>&quot\;The Digital Pulse: Social Media in Business &amp\; Community&quot\;</strong> will feature a dynamic panel of local leaders from diverse industries&mdash\;including a boutique\, city government\, a non-profit\, a school district\, and a church&mdash\;who will share their experiences and insights on leveraging social media to thrive in today&rsquo\;s digital world.</p>\n\n<p>Learn about:</p>\n\n<ul>\n	<li>Success stories and challenges in building an online presence</li>\n	<li>Tips for creating engaging content that connects with your audience</li>\n	<li>Strategies for overcoming common pitfalls and maximizing social impact</li>\n</ul>\n\n<p>Whether you&#39\;re a seasoned social media user or just getting started\, this event offers valuable takeaways to help elevate your online strategy. Don&rsquo\;t miss this opportunity to network\, learn\, and be inspired!</p>\n\n<p><strong>&#128197\; Date:</strong> Tuesday\, February 25\, 2025<br />\n<strong>&#128368\; Time:</strong> 11:30 AM - 1:00 PM<br />\n<strong>&#128205\; Location:</strong> Wright Conference Center (Crowder College\, Farber Hall\, 601 Laclede Ave.\, Neosho\, MO 64850)<br />\nReserve your spot today and discover how social media can transform your business and community connections!<br />\n<br />\nThank you to our presenting sponsor: Magnolia &amp\; Sunshine</p>\n
LOCATION:Wright Conference Center (Crowder College\, Farber Hall\, 601 Laclede Ave.\, Neosho\, MO 64850)
UID:e.2144.13770
SEQUENCE:3
DTSTAMP:20260424T133443Z
URL:https://www.neoshocc.com/events/details/monthly-membership-luncheon-the-digital-pulse-social-media-in-business-community-13770
END:VEVENT

END:VCALENDAR
