BEGIN:VCALENDAR
VERSION:2.0
PRODID:-//ChamberMaster//Event Calendar 2.0//EN
METHOD:PUBLISH
X-PUBLISHED-TTL:P3D
REFRESH-INTERVAL:P3D
CALSCALE:GREGORIAN
BEGIN:VEVENT
DTSTART:20251129T013000Z
DTEND:20251129T032500Z
X-MICROSOFT-CDO-ALLDAYEVENT:FALSE
SUMMARY:"Moonlight Deer" Sled Painting Party at Country Charm Event Venue
DESCRIPTION:Come paint with us! We will be painting a wooden sled for this one! Cost is $50 per adult painter. You must be registered by NOVEMBER 15th for this one in order to participate. Includes all supplies and step-by-step instructions. Beginners welcome and all painters leave with a finished painting. So\, gather up your friends and lets paint together! There will also be door prizes on the night of the Paint Party! PLEASE NOTE: Arrive about 20 minutes early to order drinks and get prepped for painting.
X-ALT-DESC;FMTTYPE=text/html:<span style="background-color:rgb(255\, 255\, 255)\; color:rgb(63\, 75\, 99)\; font-family:ctsans\,sans-serif\; font-size:14px">Come paint with us! We will be painting a wooden sled for this one! Cost is $50 per adult painter. You must be registered by <strong>NOVEMBER 15th </strong>for this one in order to participate. Includes all supplies and step-by-step instructions. Beginners welcome and all painters leave with a finished painting. So\, gather up your friends and lets paint together! There will also be door prizes on the night of the Paint Party! PLEASE NOTE: Arrive about 20 minutes early to order drinks and get prepped for painting.</span>
LOCATION:Country Charm Event Venue\, 18389 E.Hwy 86\, Neosho\, MO 64850
UID:e.2144.18574
SEQUENCE:3
DTSTAMP:20260424T003257Z
URL:https://www.neoshocc.com/events/details/moonlight-deer-sled-painting-party-at-country-charm-event-venue-18574
END:VEVENT

END:VCALENDAR
