BEGIN:VCALENDAR
VERSION:2.0
PRODID:-//ChamberMaster//Event Calendar 2.0//EN
METHOD:PUBLISH
X-PUBLISHED-TTL:P3D
REFRESH-INTERVAL:P3D
CALSCALE:GREGORIAN
BEGIN:VEVENT
DTSTART:20250126T000000Z
DTEND:20250126T030000Z
X-MICROSOFT-CDO-ALLDAYEVENT:FALSE
SUMMARY:Morgan Rohr Live Music at Eastside Social
DESCRIPTION:?? Saturday Night Live Music! ??\n\nWrap up January in style at Eastside Social on January 25th with live music from 6 pm to 9 pm. Gather your friends\, grab a drink\, and enjoy a fantastic evening of entertainment. Don't miss out!
X-ALT-DESC;FMTTYPE=text/html:<span style="font-size:14px"><span style="color:rgb(35\, 31\, 32)\; font-family:brandon-grotesque">?? </span><strong>Saturday Night Live Music!</strong><span style="color:rgb(35\, 31\, 32)\; font-family:brandon-grotesque"> ??</span><br />\n<span style="color:rgb(35\, 31\, 32)\; font-family:brandon-grotesque">Wrap up January in style at Eastside Social on </span><strong>January 25th</strong><span style="color:rgb(35\, 31\, 32)\; font-family:brandon-grotesque"> with live music from </span><strong>6 pm to 9 pm</strong><span style="color:rgb(35\, 31\, 32)\; font-family:brandon-grotesque">. Gather your friends\, grab a drink\, and enjoy a fantastic evening of entertainment. Don&rsquo\;t miss out!</span></span>
LOCATION:Eastside Social 113 S Washington St Neosho\, Mo
UID:e.2144.14382
SEQUENCE:3
DTSTAMP:20260424T151753Z
URL:https://www.neoshocc.com/events/details/morgan-rohr-live-music-at-eastside-social-14382
END:VEVENT

END:VCALENDAR
