BEGIN:VCALENDAR
VERSION:2.0
PRODID:-//ChamberMaster//Event Calendar 2.0//EN
METHOD:PUBLISH
X-PUBLISHED-TTL:P3D
REFRESH-INTERVAL:P3D
CALSCALE:GREGORIAN
BEGIN:VEVENT
DTSTART:20221216T160000Z
DTEND:20221217T220000Z
X-MICROSOFT-CDO-ALLDAYEVENT:FALSE
SUMMARY:Moving Sale
DESCRIPTION:Women's boutique clothing (Small - 3X)\, accessories\, purses and gifts - all marked 50-70% off!\n\nWe are moving our shop to the Neosho Square and are closing out of our inventory in Granby!\n\n\n\nJoin us Friday (10AM - 6PM) and Saturday (10AM - 5PM)!\n\n117 W. Valley Street\n\nGranby\, MO\n\n \n\n(Sale not valid on previous purchases or gift cards. All Sales are Final.)
X-ALT-DESC;FMTTYPE=text/html:<div><span style="font-size:14px"><strong><em>Women&#39\;s boutique clothing (Small - 3X)\, accessories\, purses and gifts - all marked 50-70% off!<br />\nWe are moving our shop to the Neosho Square and are closing out of our inventory in Granby!</em></strong></span></div>\n\n<div><br />\n<span style="font-size:14px"><strong>Join us Friday (10AM - 6PM) and Saturday (10AM - 5PM)!</strong><br />\n<strong>117 W. Valley Street<br />\nGranby\, MO</strong></span><br />\n&nbsp\;</div>\n\n<div><em>(Sale not valid on previous purchases or gift cards. All Sales are Final.)</em></div>\n
LOCATION:117 W. Valley Street Granby\, MO
UID:e.2144.8964
SEQUENCE:3
DTSTAMP:20260426T035148Z
URL:https://www.neoshocc.com/events/details/moving-sale-8964
END:VEVENT

END:VCALENDAR
