BEGIN:VCALENDAR
VERSION:2.0
PRODID:-//ChamberMaster//Event Calendar 2.0//EN
METHOD:PUBLISH
X-PUBLISHED-TTL:P3D
REFRESH-INTERVAL:P3D
CALSCALE:GREGORIAN
BEGIN:VEVENT
DTSTART:20251204T200000Z
DTEND:20251205T020000Z
X-MICROSOFT-CDO-ALLDAYEVENT:FALSE
SUMMARY:MSSU Holiday Happenings
DESCRIPTION:JOIN US FOR HOLIDAY HAPPENINGS AT MISSOURI SOUTHERN   A FESTIVE EVENING WITH MUSIC\, FOOD\, MANSION OPEN HOUSE\, CARRIAGE RIDES\, SANTA\, AND THE HOLIDAY MAKERS MARKET CRAFT FAIR! THIS EVENT IS FREE AND OPEN TO THE PUBLIC.
X-ALT-DESC;FMTTYPE=text/html:JOIN US FOR HOLIDAY HAPPENINGS AT MISSOURI SOUTHERN &mdash\; A FESTIVE EVENING WITH MUSIC\, FOOD\, MANSION OPEN HOUSE\, CARRIAGE RIDES\, SANTA\, AND THE HOLIDAY MAKERS MARKET CRAFT FAIR! THIS EVENT IS FREE AND OPEN TO THE PUBLIC.
LOCATION:3950 E. Newman Road
UID:e.2144.18794
SEQUENCE:3
DTSTAMP:20260423T224707Z
URL:https://www.neoshocc.com/events/details/mssu-holiday-happenings-18794
END:VEVENT

END:VCALENDAR
