BEGIN:VCALENDAR
VERSION:2.0
PRODID:-//ChamberMaster//Event Calendar 2.0//EN
METHOD:PUBLISH
X-PUBLISHED-TTL:P3D
REFRESH-INTERVAL:P3D
CALSCALE:GREGORIAN
BEGIN:VEVENT
DTSTART:20230725T050000Z
DTEND:20231231T060000Z
X-MICROSOFT-CDO-ALLDAYEVENT:FALSE
SUMMARY:Murals of Neosho Guide and Descriptive Audio Tour
DESCRIPTION:Neosho Arts Council is debuting their new Murals of Neosho Guide and Descriptive Audio Tour. Everyone can now visit the town's murals in person or online while watching and listening to a descriptive audio tour of each piece.\n\nThe audio descriptions will guide viewers through the work using descriptive language while weaving in historical and cultural narratives. This will make these works of art accessible to more members of the community including those that are blind or partially sighted.\n\nViewers will also be able to access the descriptions along with high resolution photos\, location details\, transcripts\, and additional information on the Neosho Arts Council's website. The guide also includes a virtual map of mural locations with easy to access directions for in-person viewing. All of this is available at neoshoarts.net.
X-ALT-DESC;FMTTYPE=text/html:<p style="text-align:justify"><span style="font-family:times new roman\,serif\; font-size:12pt">Neosho Arts Council is debuting their new <em>Murals of Neosho Guide and Descriptive Audio Tour</em>. Everyone can now visit the town&rsquo\;s murals in person or online while watching and listening to a descriptive audio tour of each piece.</span></p>\n\n<p style="text-align:justify"><span style="font-family:times new roman\,serif\; font-size:12pt">The audio descriptions will guide viewers through the work using descriptive language while weaving in historical and cultural narratives. This will make these works of art accessible to more members of the community including those that are blind or partially sighted.</span></p>\n\n<p><span style="font-family:times new roman\,serif\; font-size:12pt">Viewers will also be able to access the descriptions along with high resolution photos\, location details\, transcripts\, and additional information on the Neosho Arts Council&rsquo\;s website. The guide also includes a virtual map of mural locations with easy to access directions for in-person viewing. All of this is available at <a href="http://neoshoarts.net" target="_blank">neoshoarts.net</a>.</span></p>\n
LOCATION:Neosho\, MO
UID:e.2144.10509
SEQUENCE:3
DTSTAMP:20260425T104444Z
URL:https://www.neoshocc.com/events/details/murals-of-neosho-guide-and-descriptive-audio-tour-10509
END:VEVENT

END:VCALENDAR
