BEGIN:VCALENDAR
VERSION:2.0
PRODID:-//ChamberMaster//Event Calendar 2.0//EN
METHOD:PUBLISH
X-PUBLISHED-TTL:P3D
REFRESH-INTERVAL:P3D
CALSCALE:GREGORIAN
BEGIN:VEVENT
DTSTART:20240405T200000Z
DTEND:20240407T040000Z
X-MICROSOFT-CDO-ALLDAYEVENT:FALSE
SUMMARY:Myrtle's Shine Shak Re-Opening for the 2024 Season
DESCRIPTION:The Myrtle's Shine Shak\n\nwill be Re-Opening for the 2024 Season\n\nthis weekend April 5th and 6th\n\nYou will be able to purchase our Distilled Spirits as well as\, beer\, wine\, mixed cocktails\, snow cones for adults & kids\, chips\, nuts & pizzas\n\n \n\nTastings & tours will continue to be on Saturdays.\n\n \n\nFor the month of April\, we will be open Thursdays 3pm to 9pm\, Friday & Saturdays 3pm to 11pm\n\n \n\nAs it warms up will extend our days and hours
X-ALT-DESC;FMTTYPE=text/html:<div><span style="font-family:appleberry"><span style="font-size:48.0pt">The Myrtle&rsquo\;s Shine Shak</span></span><br />\n<span style="font-family:appleberry"><span style="font-size:26.0pt">will be Re-Opening for the 2024 Season</span></span><br />\n<span style="font-family:appleberry"><span style="font-size:26.0pt">this weekend April 5<sup>th</sup> and 6th</span></span><br />\n<span style="font-family:appleberry"><span style="font-size:18.0pt">You will be able to purchase our Distilled Spirits as well as\, beer\, wine\, mixed cocktails\, snow cones for adults &amp\; kids\, chips\, nuts &amp\; pizzas</span></span><br />\n&nbsp\;<br />\n<span style="font-family:appleberry"><span style="font-size:18.0pt">Tastings &amp\; tours will continue to be on Saturdays.</span></span><br />\n&nbsp\;<br />\n<span style="font-family:appleberry"><span style="font-size:18.0pt">For the month of April\, we will be open Thursdays 3pm to 9pm\, Friday &amp\; Saturdays 3pm to 11pm</span></span><br />\n&nbsp\;<br />\n<span style="font-family:appleberry"><span style="font-size:18.0pt">As it warms up will extend our days and hours</span></span><br />\n&nbsp\;</div>\n
LOCATION:1013 S Neosho Blvd\, Neosho\, MO
UID:e.2144.11506
SEQUENCE:3
DTSTAMP:20260425T031804Z
URL:https://www.neoshocc.com/events/details/myrtle-s-shine-shak-re-opening-for-the-2024-season-11506
END:VEVENT

END:VCALENDAR
