BEGIN:VCALENDAR
VERSION:2.0
PRODID:-//ChamberMaster//Event Calendar 2.0//EN
METHOD:PUBLISH
X-PUBLISHED-TTL:P3D
REFRESH-INTERVAL:P3D
CALSCALE:GREGORIAN
BEGIN:VEVENT
DTSTART;VALUE=DATE:20230529
DTEND;VALUE=DATE:20230811
TRANSP:TRANSPARENT
X-MICROSOFT-CDO-ALLDAYEVENT:TRUE
SUMMARY:National Align Your Teeth Day - Invisalign Special
DESCRIPTION:Family Dentistry of Neosho\, 417-451-2304\, Special Invisalign Offer! $500 savings and free Zoom Whitening with purchase of Comprehensive Invisalign\, August 1-10\, 2023. Free scan and consult. Get scanned and you will be entered for drawing on August 11th\, for 4 Cardinal tickets & parking pass to Cardinal vs. Phillies game on September 16.
X-ALT-DESC;FMTTYPE=text/html:Family Dentistry of Neosho\, 417-451-2304\, Special Invisalign Offer! $500 savings and free Zoom Whitening with purchase of Comprehensive Invisalign\, August 1-10\, 2023. Free scan and consult. Get scanned and you will be entered for drawing on August 11th\, for 4 Cardinal tickets &amp\; parking pass to Cardinal vs. Phillies game on September 16.
LOCATION:Family Dentistry of Neosho 1112 Baxter Street Neosho\, MO 64850
UID:e.2144.10485
SEQUENCE:3
DTSTAMP:20260425T154328Z
URL:https://www.neoshocc.com/events/details/national-align-your-teeth-day-invisalign-special-10485
END:VEVENT

END:VCALENDAR
