BEGIN:VCALENDAR
VERSION:2.0
PRODID:-//ChamberMaster//Event Calendar 2.0//EN
METHOD:PUBLISH
X-PUBLISHED-TTL:P3D
REFRESH-INTERVAL:P3D
CALSCALE:GREGORIAN
BEGIN:VEVENT
DTSTART:20240502T120000Z
DTEND:20240503T010000Z
X-MICROSOFT-CDO-ALLDAYEVENT:FALSE
SUMMARY:National Day of Prayer (Newton County)
DESCRIPTION:Please join area citizens for the National Day of Prayer Thursday\, May 2\, 2024 Three opportunities to pray: 7:00am at the Newton County Courthouse Lawn 12:15pm at the Newton County Courthouse Lawn 7:00pm at The Canopy Church (by Big Spring Park) The evening prayer event include a reception at The Canopy. All area citizens are invited to join us for these gatherings. In case of rain\, the 12:15 event will be held inside the courthouse.
X-ALT-DESC;FMTTYPE=text/html:Please join area citizens for the National Day of Prayer Thursday\, May 2\, 2024 Three opportunities to pray: 7:00am at the Newton County Courthouse Lawn 12:15pm at the Newton County Courthouse Lawn 7:00pm at The Canopy Church (by Big Spring Park) The evening prayer event include a reception at The Canopy. All area citizens are invited to join us for these gatherings. In case of rain\, the 12:15 event will be held inside the courthouse.
LOCATION:Newton County Courthouse (7am and noon) The Canopy Church (7pm)
UID:e.2144.11917
SEQUENCE:3
DTSTAMP:20260425T020741Z
URL:https://www.neoshocc.com/events/details/national-day-of-prayer-newton-county-11917
END:VEVENT

END:VCALENDAR
