BEGIN:VCALENDAR
VERSION:2.0
PRODID:-//ChamberMaster//Event Calendar 2.0//EN
METHOD:PUBLISH
X-PUBLISHED-TTL:P3D
REFRESH-INTERVAL:P3D
CALSCALE:GREGORIAN
BEGIN:VEVENT
DTSTART:20240614T230000Z
DTEND:20240615T000000Z
X-MICROSOFT-CDO-ALLDAYEVENT:FALSE
SUMMARY:Nature Explorers: Cicadas
DESCRIPTION:Does Summer have a signature sound? If it did\, it'd be the singing of the cicada! At this month's Nature Explorers\, we'll be buzzing about the cicada! Come learn about its habitat\, hobbies\, lifecycle\, the importance of this year's cicadas\, and much\, much more.\n\nMust pre-register by visiting https://bit.ly/NatureExplorers524\, or by emailing colvin@wildcatglades.org
X-ALT-DESC;FMTTYPE=text/html:Does Summer have a signature sound? If it did\, it&rsquo\;d be the singing of the cicada! At this month&rsquo\;s Nature Explorers\, we&rsquo\;ll be buzzing about the cicada! Come learn about its habitat\, hobbies\, lifecycle\, the importance of this year&rsquo\;s cicadas\, and much\, much more.<br />\n<strong>Must pre-register by visiting </strong><a href="https://bit.ly/NatureExplorers524"><strong>https://bit.ly/NatureExplorers524</strong></a>\, <strong>or by emailing </strong><a href="mailto:colvin@wildcatglades.org"><strong>colvin@wildcatglades.org</strong></a>
LOCATION:Wildcat Glades Pavillion
UID:e.2144.12114
SEQUENCE:3
DTSTAMP:20260425T014725Z
URL:https://www.neoshocc.com/events/details/nature-explorers-cicadas-12114
END:VEVENT

END:VCALENDAR
