BEGIN:VCALENDAR
VERSION:2.0
PRODID:-//ChamberMaster//Event Calendar 2.0//EN
METHOD:PUBLISH
X-PUBLISHED-TTL:P3D
REFRESH-INTERVAL:P3D
CALSCALE:GREGORIAN
BEGIN:VEVENT
DTSTART:20240525T150000Z
DTEND:20240525T160000Z
X-MICROSOFT-CDO-ALLDAYEVENT:FALSE
SUMMARY:Nature Explorers: Crawdads
DESCRIPTION:Crawdads\, crayfish\, crawfish\, craydads  it doesn't matter what you call them\, they'll still be snippy! If you've spent any time near Missouri's streams\, you've probably seen these clawed crustaceans dart through the water or hide under rocks. Be prepared to get messy\, because at this month's Nature Explorers\, we'll be wading into a shallow stream and observing crawdads in their own habitat! You'll want a towel for this one!\n\nPlease wear appropriate attire\, towels are recommended.\n\nMust pre-register by visiting https://bit.ly/NatureExplorersCrawdads\, or by emailing colvin@wildcatglades.org
X-ALT-DESC;FMTTYPE=text/html:Crawdads\, crayfish\, crawfish\, craydads&hellip\; it doesn&rsquo\;t matter what you call them\, they&rsquo\;ll still be snippy! If you&rsquo\;ve spent any time near Missouri&rsquo\;s streams\, you&rsquo\;ve probably seen these clawed crustaceans dart through the water or hide under rocks. Be prepared to get messy\, because at this month&rsquo\;s Nature Explorers\, we&rsquo\;ll be wading into a shallow stream and observing crawdads in their own habitat! You&rsquo\;ll want a towel for this one!<br />\n<strong>Please wear appropriate attire\, towels are recommended.</strong><br />\n<strong>Must pre-register by visiting</strong> <a href="https://bit.ly/NatureExplorersCrawdads"><strong>https://bit.ly/NatureExplorersCrawdads</strong></a><strong>\,</strong> <strong>or by emailing </strong><a href="mailto:colvin@wildcatglades.org"><strong>colvin@wildcatglades.org</strong></a>
LOCATION:Wildcat Glades Pavillion - 2FHH+CP4 Joplin\, Missouri
UID:e.2144.12054
SEQUENCE:3
DTSTAMP:20260425T020118Z
URL:https://www.neoshocc.com/events/details/nature-explorers-crawdads-12054
END:VEVENT

END:VCALENDAR
