BEGIN:VCALENDAR
VERSION:2.0
PRODID:-//ChamberMaster//Event Calendar 2.0//EN
METHOD:PUBLISH
X-PUBLISHED-TTL:P3D
REFRESH-INTERVAL:P3D
CALSCALE:GREGORIAN
BEGIN:VEVENT
DTSTART:20250321T230000Z
DTEND:20250322T000000Z
X-MICROSOFT-CDO-ALLDAYEVENT:FALSE
SUMMARY:Nature Explorers: Mammal Madness
DESCRIPTION:For ages 7 to 14\n\nMammals are all around us. The squirrels in your yard? Mammals! The family dog? It's a mammal! Do you have a cat instead? It's still a mammal! At this month's Nature Explorers\, we're tackling the finer details that make mammals tick. You won't want to miss this one!\n\nMust pre-register. Please do so by visiting our Facebook page\, emailing colvin@wildcatglades.org\, or by going to https://bit.ly/NatureExplorers325.
X-ALT-DESC;FMTTYPE=text/html:<em><span style="color:black">For ages 7 to 14</span></em><br />\n<span style="color:black">Mammals are all around us. The squirrels in your yard? Mammals! The family dog? It&rsquo\;s a mammal! Do you have a cat instead? It&rsquo\;s still a mammal! At this month&rsquo\;s Nature Explorers\, we&rsquo\;re tackling the finer details that make mammals tick. You won&rsquo\;t want to miss this one!</span><br />\n<strong>Must pre-register. Please do so by visiting our Facebook page\, emailing</strong> <a href="mailto:colvin@wildcatglades.org"><strong>colvin@wildcatglades.org</strong></a><strong>\,</strong><strong> or by going to </strong><a href="https://bit.ly/NatureExplorers325"><strong>https://bit.ly/NatureExplorers325</strong></a><strong>. </strong>
LOCATION:Wildcat Glades Education Cottage - 301 Riviera Drive\, Joplin\, MO 64804
UID:e.2144.14947
SEQUENCE:3
DTSTAMP:20260424T115937Z
URL:https://www.neoshocc.com/events/details/nature-explorers-mammal-madness-14947
END:VEVENT

END:VCALENDAR
