BEGIN:VCALENDAR
VERSION:2.0
PRODID:-//ChamberMaster//Event Calendar 2.0//EN
METHOD:PUBLISH
X-PUBLISHED-TTL:P3D
REFRESH-INTERVAL:P3D
CALSCALE:GREGORIAN
BEGIN:VEVENT
DTSTART:20250118T000000Z
DTEND:20250118T010000Z
X-MICROSOFT-CDO-ALLDAYEVENT:FALSE
SUMMARY:Nature Explorers: Micro Habitats
DESCRIPTION:For ages 7 to 14\n\nFree to Attend\n\nDo you ever get tired of looking at the big picture? At this month's Nature Explorers\, we're zooming in on the smallest habitats and animals Missouri has to offer! Come learn about nearly microscopic super-predators\, sprawling forests of moss\, and much\, much more. At the end of the program\, attendees will create miniature terrariums that simulate real ecosystems. You won't want to miss this!\n\nMust pre-register. Please do so by visiting our Facebook page\, emailing colvin@wildcatglades.org\, or by going to https://bit.ly/NatureExplorers125.
X-ALT-DESC;FMTTYPE=text/html:<em><span style="color:black">For ages 7 to 14<br />\nFree to Attend</span></em><br />\n<span style="color:black">Do you ever get tired of looking at the big picture? At this month&rsquo\;s Nature Explorers\, we&rsquo\;re zooming in on the smallest habitats and animals Missouri has to offer! Come learn about nearly microscopic super-predators\, sprawling forests of moss\, and much\, much more. At the end of the program\, attendees will create miniature terrariums that simulate real ecosystems. You won&rsquo\;t want to miss this!</span><br />\n<strong>Must pre-register. Please do so by visiting our Facebook page\, emailing</strong> <a href="mailto:colvin@wildcatglades.org"><strong>colvin@wildcatglades.org</strong></a><strong>\,</strong><strong> or by going to </strong><a href="https://bit.ly/NatureExplorers125"><strong>https://bit.ly/NatureExplorers125</strong></a><strong>. </strong>
LOCATION:Wildcat Glades Education Cottage 301 Riviera Drive JOPLIN\, MO 64804
UID:e.2144.14177
SEQUENCE:3
DTSTAMP:20260424T145935Z
URL:https://www.neoshocc.com/events/details/nature-explorers-micro-habitats-14177
END:VEVENT

END:VCALENDAR
