BEGIN:VCALENDAR
VERSION:2.0
PRODID:-//ChamberMaster//Event Calendar 2.0//EN
METHOD:PUBLISH
X-PUBLISHED-TTL:P3D
REFRESH-INTERVAL:P3D
CALSCALE:GREGORIAN
BEGIN:VEVENT
DTSTART:20241122T160000Z
DTEND:20241123T230000Z
X-MICROSOFT-CDO-ALLDAYEVENT:FALSE
SUMMARY:Neosho Boutique Shop Hop
DESCRIPTION:Shop small a week early before Black Friday with a Boutique Shop Hop for PINK Friday & Saturday!!\n\nFollow the event\, HERE for deals at each shop and details!\n\n@The Rowe Boutique\n\n@Miss Daisy's Neosho\n\n@The Oxbow Market\n\n@Salon 109 & Boutique\n\n@Magnolia & Sunshine
X-ALT-DESC;FMTTYPE=text/html:<div class="xdj266r x11i5rnm xat24cr x1mh8g0r x1vvkbs" style="margin: 0px\; overflow-wrap: break-word\; font-family: &quot\;Segoe UI Historic&quot\;\, &quot\;Segoe UI&quot\;\, Helvetica\, Arial\, sans-serif\; color: rgb(5\, 5\, 5)\; font-size: 15px\; background-color: rgb(255\, 255\, 255)\;">Shop small a week early before Black Friday with a Boutique Shop Hop for PINK Friday &amp\; Saturday!!</div>\n\n<div class="x11i5rnm xat24cr x1mh8g0r x1vvkbs xtlvy1s" style="margin: 0.5em 0px 0px\; overflow-wrap: break-word\; font-family: &quot\;Segoe UI Historic&quot\;\, &quot\;Segoe UI&quot\;\, Helvetica\, Arial\, sans-serif\; color: rgb(5\, 5\, 5)\; font-size: 15px\; background-color: rgb(255\, 255\, 255)\;">Follow the event\, HERE&nbsp\;for deals at each shop and details!</div>\n\n<div class="x11i5rnm xat24cr x1mh8g0r x1vvkbs xtlvy1s" style="margin: 0.5em 0px 0px\; overflow-wrap: break-word\; font-family: &quot\;Segoe UI Historic&quot\;\, &quot\;Segoe UI&quot\;\, Helvetica\, Arial\, sans-serif\; color: rgb(5\, 5\, 5)\; font-size: 15px\; background-color: rgb(255\, 255\, 255)\;">@The Rowe Boutique<br class="html-br" />\n@Miss Daisy&#39\;s Neosho<br class="html-br" />\n@The Oxbow Market<br class="html-br" />\n@Salon 109 &amp\; Boutique<br class="html-br" />\n@Magnolia &amp\; Sunshine</div>\n
LOCATION:Neosho\, MO
UID:e.2144.13906
SEQUENCE:3
DTSTAMP:20260424T173648Z
URL:https://www.neoshocc.com/events/details/neosho-boutique-shop-hop-13906
END:VEVENT

END:VCALENDAR
