BEGIN:VCALENDAR
VERSION:2.0
PRODID:-//ChamberMaster//Event Calendar 2.0//EN
METHOD:PUBLISH
X-PUBLISHED-TTL:P3D
REFRESH-INTERVAL:P3D
CALSCALE:GREGORIAN
BEGIN:VEVENT
DTSTART:20240819T050000Z
DTEND:20240902T220000Z
X-MICROSOFT-CDO-ALLDAYEVENT:FALSE
SUMMARY:Neosho Bright Futures 24-25 Community Shirts
DESCRIPTION:Get your new 2024-2025 Bright Futures Community Day shirt! 4 options to choose from\; T-shirt\, Long sleeve tee\, crewneck sweatshirt\, or a hoodie. \n\nJoin us on the 3rd Wednesday of each month\, by wearing your shirt\, to bring awareness and support to Neosho Bright Futures. \n\nTogether we provide Neosho students the tools they need to succeed.  \n\nEmail Laura Burch for any questions or placing a large order. \n\ntinyurl.com/bfcommunityshirt24
X-ALT-DESC;FMTTYPE=text/html:Get your new 2024-2025 Bright Futures Community Day shirt! 4 options to choose from\; T-shirt\, Long sleeve tee\, crewneck sweatshirt\, or a hoodie.&nbsp\;<br />\nJoin us on the 3rd Wednesday of each month\, by wearing your shirt\, to bring awareness and support to Neosho Bright Futures.&nbsp\;<br />\nTogether we provide Neosho students the tools they need to succeed.&nbsp\;&nbsp\;<br />\nEmail Laura Burch for any questions or placing a large order.&nbsp\;<br />\ntinyurl.com/bfcommunityshirt24
LOCATION:
UID:e.2144.13049
SEQUENCE:3
DTSTAMP:20260424T203512Z
URL:https://www.neoshocc.com/events/details/neosho-bright-futures-24-25-community-shirts-13049
END:VEVENT

END:VCALENDAR
