BEGIN:VCALENDAR
VERSION:2.0
PRODID:-//ChamberMaster//Event Calendar 2.0//EN
METHOD:PUBLISH
X-PUBLISHED-TTL:P3D
REFRESH-INTERVAL:P3D
CALSCALE:GREGORIAN
BEGIN:VEVENT
DTSTART;VALUE=DATE:20240923
DTEND;VALUE=DATE:20241009
TRANSP:TRANSPARENT
X-MICROSOFT-CDO-ALLDAYEVENT:TRUE
SUMMARY:Neosho Bright Futures Community Peanut Butter Drive
DESCRIPTION:Neosho Bright Futures is reaching out to our community to help us feed our Wildcats peanut butter each month. We are asking for 16 oz or 18 oz jars of peanut butter from Sept. 23 through Oct. 4th\, 2024. \n\nWe are asking our community to help us collect 2\,500 jars of peanut butter. This is enough to provide each child one jar for the entire 2024-2025 school year. \n\nThere are lots of locations to drop off your jars. They can be dropped any time at the Neosho Bright Futures office located behind the Administration building. 418 Fairground Rd. Neosho\, MO 64850
X-ALT-DESC;FMTTYPE=text/html:Neosho Bright Futures is reaching out to our community to help us feed our Wildcats peanut butter each month. We are asking for 16 oz or 18 oz jars of peanut butter from Sept. 23 through Oct. 4th\, 2024.&nbsp\;<br />\nWe are asking our community to help us collect 2\,500 jars of peanut butter. This is enough to provide each child one jar for the entire 2024-2025 school year.&nbsp\;<br />\nThere are lots of locations to drop off your jars. They can be dropped any time at the Neosho Bright Futures office located behind the Administration building. 418 Fairground Rd. Neosho\, MO 64850
LOCATION:Neosho Bright Futures Office 418 Fairground Rd. Neosho\, MO 64850
UID:e.2144.13097
SEQUENCE:3
DTSTAMP:20260424T190855Z
URL:https://www.neoshocc.com/events/details/neosho-bright-futures-community-peanut-butter-drive-13097
END:VEVENT

END:VCALENDAR
