BEGIN:VCALENDAR
VERSION:2.0
PRODID:-//ChamberMaster//Event Calendar 2.0//EN
METHOD:PUBLISH
X-PUBLISHED-TTL:P3D
REFRESH-INTERVAL:P3D
CALSCALE:GREGORIAN
BEGIN:VEVENT
DTSTART;VALUE=DATE:20241111
DTEND;VALUE=DATE:20250101
TRANSP:TRANSPARENT
X-MICROSOFT-CDO-ALLDAYEVENT:TRUE
SUMMARY:Neosho Bright Futures needs your feedback!
DESCRIPTION:Neosho Bright Futures values your input in enhancing our services. If you're willing to share your feedback\, we kindly request a few minutes of your time to complete an anonymous survey. The information gathered will enable us to optimize our services\, catering to the needs of our esteemed Wildcats. Thank you for your time in helping us make our program stronger.
X-ALT-DESC;FMTTYPE=text/html:Neosho Bright Futures values your input in enhancing our services. If you&#39\;re willing to share your feedback\, we kindly request a few minutes of your time to complete an anonymous survey. The information gathered will enable us to optimize our services\, catering to the needs of our esteemed Wildcats. Thank you for your time in helping us make our program stronger.
LOCATION:
UID:e.2144.13926
SEQUENCE:3
DTSTAMP:20260424T161005Z
URL:https://www.neoshocc.com/events/details/neosho-bright-futures-needs-your-feedback-13926
END:VEVENT

END:VCALENDAR
