BEGIN:VCALENDAR
VERSION:2.0
PRODID:-//ChamberMaster//Event Calendar 2.0//EN
METHOD:PUBLISH
X-PUBLISHED-TTL:P3D
REFRESH-INTERVAL:P3D
CALSCALE:GREGORIAN
BEGIN:VEVENT
DTSTART;VALUE=DATE:20250808
DTEND;VALUE=DATE:20250810
TRANSP:TRANSPARENT
X-MICROSOFT-CDO-ALLDAYEVENT:TRUE
SUMMARY:Neosho Bright Futures Stuff the Bus 2025
DESCRIPTION:?? Volunteers Needed for STUFF THE BUS! ???????\n\nHelp us collect school supplies for Neosho students by signing up to volunteer at our Stuff the Bus event!\n\n?? Neosho Walmart\n\n?? Friday\, August 8 & Saturday\, August 9\n\n? 8 AM   5 PM (2-hour shifts available)\n\nWe're looking for friendly faces to greet donors\, accept school supply donations\, and help fill the bus for the 2025 school year!\n\n?? Sign up here: tinyurl.com/stuffbus25\n\n?? Or scan the QR code on the flyer below!\n\nLet's come together to support our Wildcats and make sure every student starts the year prepared! ????
X-ALT-DESC;FMTTYPE=text/html:<p>?? <strong>Volunteers Needed for STUFF THE BUS!</strong> ???????<br />\nHelp us collect school supplies for Neosho students by signing up to volunteer at our <strong>Stuff the Bus</strong> event!</p>\n\n<p>?? <strong>Neosho Walmart</strong><br />\n?? <strong>Friday\, August 8 &amp\; Saturday\, August 9</strong><br />\n? <strong>8 AM &ndash\; 5 PM</strong> (2-hour shifts available)</p>\n\n<p>We&#39\;re looking for friendly faces to greet donors\, accept school supply donations\, and help fill the bus for the 2025 school year!</p>\n\n<p>?? Sign up here: tinyurl.com/stuffbus25<br />\n?? Or scan the QR code on the flyer below!</p>\n\n<p>Let&rsquo\;s come together to support our Wildcats and make sure every student starts the year prepared! ????</p>\n
LOCATION:Neosho Walmart
UID:e.2144.17540
SEQUENCE:3
DTSTAMP:20260424T060323Z
URL:https://www.neoshocc.com/events/details/neosho-bright-futures-stuff-the-bus-2025-17540
END:VEVENT

END:VCALENDAR
