BEGIN:VCALENDAR
VERSION:2.0
PRODID:-//ChamberMaster//Event Calendar 2.0//EN
METHOD:PUBLISH
X-PUBLISHED-TTL:P3D
REFRESH-INTERVAL:P3D
CALSCALE:GREGORIAN
BEGIN:VEVENT
DTSTART:20250412T220000Z
DTEND:20250413T020000Z
X-MICROSOFT-CDO-ALLDAYEVENT:FALSE
SUMMARY:Neosho Christian School Benefit Banquet
DESCRIPTION:Neosho Christian Schools Annual Benefit Banquet Celebrating 25 years Order of Events Hors d' uvre's\, Coffee Bar and Silent Auction begins at 5 Followed by a catered dinner from chef Mike with Trackside BBQ and Burgers from Joplin at 6 and entertainment magician Kevin Wade
X-ALT-DESC;FMTTYPE=text/html:Neosho Christian Schools Annual Benefit Banquet Celebrating 25 years Order of Events Hors d&#39\;&oelig\;uvre&#39\;s\, Coffee Bar and Silent Auction begins at 5 Followed by a catered dinner from chef Mike with Trackside BBQ and Burgers from Joplin at 6 and entertainment magician Kevin Wade
LOCATION:Neosho Auditorium 109 West Main Street Neosho\, MO 64850
UID:e.2144.14962
SEQUENCE:3
DTSTAMP:20260424T104856Z
URL:https://www.neoshocc.com/events/details/neosho-christian-school-benefit-banquet-04-12-2025-14962
END:VEVENT

END:VCALENDAR
