BEGIN:VCALENDAR
VERSION:2.0
PRODID:-//ChamberMaster//Event Calendar 2.0//EN
METHOD:PUBLISH
X-PUBLISHED-TTL:P3D
REFRESH-INTERVAL:P3D
CALSCALE:GREGORIAN
BEGIN:VEVENT
DTSTART:20230401T220000Z
DTEND:20230402T020000Z
X-MICROSOFT-CDO-ALLDAYEVENT:FALSE
SUMMARY:Neosho Christian School's Benefit Banquet
DESCRIPTION:This is a event that helps raise money for the school. Tickets are $75.00 or if you a business you can sponsor a table. Your ticket purchase includes a catered dinner and our Entertainment for the night Comedian David Ferrel.
X-ALT-DESC;FMTTYPE=text/html:This is a event that helps raise money for the school. Tickets are $75.00 or if you a business you can sponsor a table. Your ticket purchase includes a catered dinner and our Entertainment for the night Comedian David Ferrel.
LOCATION:Neosho Civic Center
UID:e.2144.9084
SEQUENCE:3
DTSTAMP:20260425T214520Z
URL:https://www.neoshocc.com/events/details/neosho-christian-school-s-benefit-banquet-9084
END:VEVENT

END:VCALENDAR
