BEGIN:VCALENDAR
VERSION:2.0
PRODID:-//ChamberMaster//Event Calendar 2.0//EN
METHOD:PUBLISH
X-PUBLISHED-TTL:P3D
REFRESH-INTERVAL:P3D
CALSCALE:GREGORIAN
BEGIN:VEVENT
DTSTART:20251206T230000Z
DTEND:20251207T020000Z
X-MICROSOFT-CDO-ALLDAYEVENT:FALSE
SUMMARY:Neosho Christmas Parade 2025
DESCRIPTION:Join us in Downtown Neosho on Saturday\, December 6\, at 5:00 PM for the 2025 Neosho Christmas Parade\, presented by the Neosho Area Chamber of Commerce and Specialty Risk Insurance!\n\nEvent Details:\n\nDowntown Neosho\n\nSaturday\, December 6\, 2025\n\nParade begins at 5:00 PM\n\nPlease note: No refunds will be issued for no-shows or cancelled registrations.
X-ALT-DESC;FMTTYPE=text/html:<p data-end="346" data-start="165"><span style="font-size:14px\;"><span style="font-family:arial\;">Join us in Downtown Neosho on Saturday\, December 6\, at 5:00 PM for the 2025 Neosho Christmas Parade\, presented by the Neosho Area Chamber of Commerce and Specialty Risk Insurance!</span></span></p>\n\n<p data-end="438" data-start="348"><span style="font-size:14px\;"><span style="font-family:arial\;">Event Details:<br data-end="365" data-start="362" />\nDowntown Neosho<br data-end="383" data-start="380" />\nSaturday\, December 6\, 2025<br data-end="412" data-start="409" />\nParade begins at 5:00 PM</span></span></p>\n\n<p data-end="521" data-start="440"><span style="font-size:14px\;"><span style="font-family:arial\;">Please note: No refunds will be issued for no-shows or cancelled registrations.</span></span></p>\n
LOCATION:Downtown Neosho
UID:e.2144.16660
SEQUENCE:3
DTSTAMP:20260423T224720Z
URL:https://www.neoshocc.com/events/details/neosho-christmas-parade-2025-16660
END:VEVENT

END:VCALENDAR
