BEGIN:VCALENDAR
VERSION:2.0
PRODID:-//ChamberMaster//Event Calendar 2.0//EN
METHOD:PUBLISH
X-PUBLISHED-TTL:P3D
REFRESH-INTERVAL:P3D
CALSCALE:GREGORIAN
BEGIN:VEVENT
DTSTART;VALUE=DATE:20240405
DTEND;VALUE=DATE:20240407
TRANSP:TRANSPARENT
X-MICROSOFT-CDO-ALLDAYEVENT:TRUE
SUMMARY:Neosho City Wide Garage Sale- Missouri's Largest
DESCRIPTION:Pssst..... Guess what?!? It's almost time! April 5th and 6th is Missouri's Largest Garage Sale\, Neosho's City Wide Garage Sale!! Sales are rain or shine.\n\n\n\n#neoshocitywide #missourislargest #citywidesales #neoshoareachamber #neoshomo #treasurehunting\n\n\n\nBe sure to check out the official garage sale webpage & map here
X-ALT-DESC;FMTTYPE=text/html:<div class="kvgmc6g5 cxmmr5t8 oygrvhab hcukyx3x c1et5uql ii04i59q" color:="" font-size:="" segoe="" style="overflow-wrap: break-word\; margin: 0px\; white-space: pre-wrap\; font-family: " ui="">\n<div dir="auto" style="font-family: inherit\;">\n<div class="kvgmc6g5 cxmmr5t8 oygrvhab hcukyx3x c1et5uql ii04i59q" color:="" font-size:="" segoe="" style="overflow-wrap: break-word\; margin: 0px\; white-space: pre-wrap\;" ui="">\n<div dir="auto" style="font-family: inherit\;">Pssst..... Guess what?!? It&#39\;s almost time! April 5th and 6th is <span style="white-space: pre-wrap\;">Missouri&#39\;s Largest Garage Sale\,</span> Neosho&#39\;s City Wide Garage Sale!! Sales are rain or shine.<br />\n<br />\n<span style="font-family: inherit\;"><a class="oajrlxb2 g5ia77u1 qu0x051f esr5mh6w e9989ue4 r7d6kgcz rq0escxv nhd2j8a9 nc684nl6 p7hjln8o kvgmc6g5 cxmmr5t8 oygrvhab hcukyx3x jb3vyjys rz4wbd8a qt6c0cv9 a8nywdso i1ao9s8h esuyzwwr f1sip0of lzcic4wl q66pz984 gpro0wi8 b1v8xokw" href="https://www.facebook.com/hashtag/neoshocitywide?__eep__=6&amp\;__cft__[0]=AZXnIn56XrCbJ-SEJZn81_0sHXb49lRv1OeEMLlEq9-TXBu-i3wDraaIWZMINg8R00z9rZ_tl7WAHIelRXlgRawpFj5EAAEY0qdXnMslGKQnaRR3VSU7611bEsUrHtn-7I5FXBk7k0bOM5YEAdHH2mpj-FB6YgPwQquCHVI4epq3Zw&amp\;__tn__=*NK-y-R" role="link" style="color: var(--accent)\; cursor: pointer\; text-decoration-line: none\; outline: none\; list-style: none\; border-width: 0px\; border-style: initial\; border-color: initial\; padding: 0px\; margin: 0px\; touch-action: manipulation\; background-color: transparent\; text-align: inherit\; display: inline\; -webkit-tap-highlight-color: transparent\; box-sizing: border-box\; font-family: inherit\;" tabindex="0">#neoshocitywide</a></span> <span style="font-family: inherit\;"><a class="oajrlxb2 g5ia77u1 qu0x051f esr5mh6w e9989ue4 r7d6kgcz rq0escxv nhd2j8a9 nc684nl6 p7hjln8o kvgmc6g5 cxmmr5t8 oygrvhab hcukyx3x jb3vyjys rz4wbd8a qt6c0cv9 a8nywdso i1ao9s8h esuyzwwr f1sip0of lzcic4wl q66pz984 gpro0wi8 b1v8xokw" href="https://www.facebook.com/hashtag/missourislargest?__eep__=6&amp\;__cft__[0]=AZXnIn56XrCbJ-SEJZn81_0sHXb49lRv1OeEMLlEq9-TXBu-i3wDraaIWZMINg8R00z9rZ_tl7WAHIelRXlgRawpFj5EAAEY0qdXnMslGKQnaRR3VSU7611bEsUrHtn-7I5FXBk7k0bOM5YEAdHH2mpj-FB6YgPwQquCHVI4epq3Zw&amp\;__tn__=*NK-y-R" role="link" style="color: var(--accent)\; cursor: pointer\; text-decoration-line: none\; outline: none\; list-style: none\; border-width: 0px\; border-style: initial\; border-color: initial\; padding: 0px\; margin: 0px\; touch-action: manipulation\; background-color: transparent\; text-align: inherit\; display: inline\; -webkit-tap-highlight-color: transparent\; box-sizing: border-box\; font-family: inherit\;" tabindex="0">#missourislargest</a></span> <span style="font-family: inherit\;"><a class="oajrlxb2 g5ia77u1 qu0x051f esr5mh6w e9989ue4 r7d6kgcz rq0escxv nhd2j8a9 nc684nl6 p7hjln8o kvgmc6g5 cxmmr5t8 oygrvhab hcukyx3x jb3vyjys rz4wbd8a qt6c0cv9 a8nywdso i1ao9s8h esuyzwwr f1sip0of lzcic4wl q66pz984 gpro0wi8 b1v8xokw" href="https://www.facebook.com/hashtag/citywidesales?__eep__=6&amp\;__cft__[0]=AZXnIn56XrCbJ-SEJZn81_0sHXb49lRv1OeEMLlEq9-TXBu-i3wDraaIWZMINg8R00z9rZ_tl7WAHIelRXlgRawpFj5EAAEY0qdXnMslGKQnaRR3VSU7611bEsUrHtn-7I5FXBk7k0bOM5YEAdHH2mpj-FB6YgPwQquCHVI4epq3Zw&amp\;__tn__=*NK-y-R" role="link" style="color: var(--accent)\; cursor: pointer\; text-decoration-line: none\; outline: none\; list-style: none\; border-width: 0px\; border-style: initial\; border-color: initial\; padding: 0px\; margin: 0px\; touch-action: manipulation\; background-color: transparent\; text-align: inherit\; display: inline\; -webkit-tap-highlight-color: transparent\; box-sizing: border-box\; font-family: inherit\;" tabindex="0">#citywidesales</a></span> <span style="font-family: inherit\;"><a class="oajrlxb2 g5ia77u1 qu0x051f esr5mh6w e9989ue4 r7d6kgcz rq0escxv nhd2j8a9 nc684nl6 p7hjln8o kvgmc6g5 cxmmr5t8 oygrvhab hcukyx3x jb3vyjys rz4wbd8a qt6c0cv9 a8nywdso i1ao9s8h esuyzwwr f1sip0of lzcic4wl q66pz984 gpro0wi8 b1v8xokw" href="https://www.facebook.com/hashtag/neoshoareachamber?__eep__=6&amp\;__cft__[0]=AZXnIn56XrCbJ-SEJZn81_0sHXb49lRv1OeEMLlEq9-TXBu-i3wDraaIWZMINg8R00z9rZ_tl7WAHIelRXlgRawpFj5EAAEY0qdXnMslGKQnaRR3VSU7611bEsUrHtn-7I5FXBk7k0bOM5YEAdHH2mpj-FB6YgPwQquCHVI4epq3Zw&amp\;__tn__=*NK-y-R" role="link" style="color: var(--accent)\; cursor: pointer\; text-decoration-line: none\; outline: none\; list-style: none\; border-width: 0px\; border-style: initial\; border-color: initial\; padding: 0px\; margin: 0px\; touch-action: manipulation\; background-color: transparent\; text-align: inherit\; display: inline\; -webkit-tap-highlight-color: transparent\; box-sizing: border-box\; font-family: inherit\;" tabindex="0">#neoshoareachamber</a></span> <span style="font-family: inherit\;"><a class="oajrlxb2 g5ia77u1 qu0x051f esr5mh6w e9989ue4 r7d6kgcz rq0escxv nhd2j8a9 nc684nl6 p7hjln8o kvgmc6g5 cxmmr5t8 oygrvhab hcukyx3x jb3vyjys rz4wbd8a qt6c0cv9 a8nywdso i1ao9s8h esuyzwwr f1sip0of lzcic4wl q66pz984 gpro0wi8 b1v8xokw" href="https://www.facebook.com/hashtag/neoshomo?__eep__=6&amp\;__cft__[0]=AZXnIn56XrCbJ-SEJZn81_0sHXb49lRv1OeEMLlEq9-TXBu-i3wDraaIWZMINg8R00z9rZ_tl7WAHIelRXlgRawpFj5EAAEY0qdXnMslGKQnaRR3VSU7611bEsUrHtn-7I5FXBk7k0bOM5YEAdHH2mpj-FB6YgPwQquCHVI4epq3Zw&amp\;__tn__=*NK-y-R" role="link" style="color: var(--accent)\; cursor: pointer\; text-decoration-line: none\; outline: none\; list-style: none\; border-width: 0px\; border-style: initial\; border-color: initial\; padding: 0px\; margin: 0px\; touch-action: manipulation\; background-color: transparent\; text-align: inherit\; display: inline\; -webkit-tap-highlight-color: transparent\; box-sizing: border-box\; font-family: inherit\;" tabindex="0">#neoshomo</a></span> <span style="font-family: inherit\;"><a class="oajrlxb2 g5ia77u1 qu0x051f esr5mh6w e9989ue4 r7d6kgcz rq0escxv nhd2j8a9 nc684nl6 p7hjln8o kvgmc6g5 cxmmr5t8 oygrvhab hcukyx3x jb3vyjys rz4wbd8a qt6c0cv9 a8nywdso i1ao9s8h esuyzwwr f1sip0of lzcic4wl q66pz984 gpro0wi8 b1v8xokw" href="https://www.facebook.com/hashtag/treasurehunting?__eep__=6&amp\;__cft__[0]=AZXnIn56XrCbJ-SEJZn81_0sHXb49lRv1OeEMLlEq9-TXBu-i3wDraaIWZMINg8R00z9rZ_tl7WAHIelRXlgRawpFj5EAAEY0qdXnMslGKQnaRR3VSU7611bEsUrHtn-7I5FXBk7k0bOM5YEAdHH2mpj-FB6YgPwQquCHVI4epq3Zw&amp\;__tn__=*NK-y-R" role="link" style="color: var(--accent)\; cursor: pointer\; text-decoration-line: none\; outline: none\; list-style: none\; border-width: 0px\; border-style: initial\; border-color: initial\; padding: 0px\; margin: 0px\; touch-action: manipulation\; background-color: transparent\; text-align: inherit\; display: inline\; -webkit-tap-highlight-color: transparent\; box-sizing: border-box\; font-family: inherit\;" tabindex="0">#treasurehunting</a></span><br />\n<br />\n<span style="font-size:20px\;"><a href="https://neoshocc.com/2021NeoshoCityWide-copy">Be sure to check out the official garage sale webpage &amp\; map here</a></span></div>\n</div>\n</div>\n</div>\n
LOCATION:Over 300 sales all over Neosho and the surrounding area!
UID:e.2144.11168
SEQUENCE:3
DTSTAMP:20260425T031910Z
URL:https://www.neoshocc.com/events/details/neosho-city-wide-garage-sale-missouri-s-largest-11168
END:VEVENT

END:VCALENDAR
