BEGIN:VCALENDAR
VERSION:2.0
PRODID:-//ChamberMaster//Event Calendar 2.0//EN
METHOD:PUBLISH
X-PUBLISHED-TTL:P3D
REFRESH-INTERVAL:P3D
CALSCALE:GREGORIAN
BEGIN:VEVENT
DTSTART:20241217T170000Z
DTEND:20241217T230000Z
X-MICROSOFT-CDO-ALLDAYEVENT:FALSE
SUMMARY:Neosho Community Blood Drive
DESCRIPTION:The Community Blood Center of the Ozarks\, the sole supplier of blood\, platelets\, and plasma to patients at 45 area healthcare facilities\, encourages community members to wrap up the year by saving lives. Give the gift of life at the blood drive in Neosho on Tuesday\, December 17. Donors will receive a limited-edition cozy fleece blanket\, while supplies last.
X-ALT-DESC;FMTTYPE=text/html:<p style="color: black\; font-size: 12pt\; font-family: &quot\;Times New Roman&quot\;\, serif\; margin: 6pt 0px 0px\;"><span data-olk-copy-source="MessageBody" style="border: 0px\; font-style: inherit\; font-variant: inherit\; font-weight: inherit\; font-stretch: inherit\; font-size: 11pt\; line-height: inherit\; font-family: Calibri\, sans-serif\; font-optical-sizing: inherit\; font-size-adjust: inherit\; font-kerning: inherit\; font-feature-settings: inherit\; font-variation-settings: inherit\; margin: 0px\; padding: 0px\; vertical-align: baseline\; color: inherit\;">The<b>&nbsp\;</b>Community Blood Center of the Ozarks\, the sole supplier of blood\, platelets\, and plasma to patients at 45 area healthcare facilities\,<b>&nbsp\;</b>encourages community members to wrap up the year by saving lives. Give the gift of life at the blood drive&nbsp\;</span><span style="border: 0px\; font-style: inherit\; font-variant: inherit\; font-weight: inherit\; font-stretch: inherit\; font-size: inherit\; line-height: inherit\; font-family: Calibri\, sans-serif\; font-optical-sizing: inherit\; font-size-adjust: inherit\; font-kerning: inherit\; font-feature-settings: inherit\; font-variation-settings: inherit\; margin: 0px\; padding: 0px\; vertical-align: baseline\; color: inherit\;">in</span><span style="border: 0px\; font-style: inherit\; font-variant: inherit\; font-weight: inherit\; font-stretch: inherit\; font-size: 11pt\; line-height: inherit\; font-family: Calibri\, sans-serif\; font-optical-sizing: inherit\; font-size-adjust: inherit\; font-kerning: inherit\; font-feature-settings: inherit\; font-variation-settings: inherit\; margin: 0px\; padding: 0px\; vertical-align: baseline\; color: inherit\;">&nbsp\;Neosho on Tuesday\, December 17. Donors will receive a limited-edition cozy fleece blanket\, while supplies last.</span></p>\n\n<div>&nbsp\;</div>\n
LOCATION:Rocketdyne Church of Christ - Gym 1111 Rocketdyne Road\, Neosho
UID:e.2144.14179
SEQUENCE:3
DTSTAMP:20260424T161710Z
URL:https://www.neoshocc.com/events/details/neosho-community-blood-drive-14179
END:VEVENT

END:VCALENDAR
