BEGIN:VCALENDAR
VERSION:2.0
PRODID:-//ChamberMaster//Event Calendar 2.0//EN
METHOD:PUBLISH
X-PUBLISHED-TTL:P3D
REFRESH-INTERVAL:P3D
CALSCALE:GREGORIAN
BEGIN:VEVENT
DTSTART:20241204T010000Z
DTEND:20241204T030000Z
X-MICROSOFT-CDO-ALLDAYEVENT:FALSE
SUMMARY:Neosho Community Christmas Concert
DESCRIPTION:Kick off the holiday Season enjoying local musical artists!\n\n\n\nAdmission is $10 for Adults \n\nAdmission is $5 for NSD Students\n\nChildren under 5 are FREE\n\nPresent your Concert ticket at the Holiday Craft Fair for Free Admittance Saturday December 7th.\n\nPresent your Concert ticket to retailers on the Neosho Square for discounts or special offers through December 24th.
X-ALT-DESC;FMTTYPE=text/html:Kick off the holiday Season enjoying local musical artists!<br />\n<br />\nAdmission is $10 for Adults&nbsp\;<br />\nAdmission is $5 for NSD Students<br />\nChildren under 5 are FREE<br />\nPresent your Concert ticket at the Holiday Craft Fair for Free Admittance Saturday December 7th.<br />\nPresent your Concert ticket to retailers on the Neosho Square for discounts or special offers through December 24th.
LOCATION:Freeman Health System Performing Arts Center 511 S. Neosho Blvd. Neosho MO 64850
UID:e.2144.13908
SEQUENCE:3
DTSTAMP:20260424T161821Z
URL:https://www.neoshocc.com/events/details/neosho-community-christmas-concert-12-03-2024-13908
END:VEVENT

END:VCALENDAR
