BEGIN:VCALENDAR
VERSION:2.0
PRODID:-//ChamberMaster//Event Calendar 2.0//EN
METHOD:PUBLISH
X-PUBLISHED-TTL:P3D
REFRESH-INTERVAL:P3D
CALSCALE:GREGORIAN
BEGIN:VEVENT
DTSTART:20251216T000000Z
DTEND:20251216T020000Z
X-MICROSOFT-CDO-ALLDAYEVENT:FALSE
SUMMARY:Neosho FFA Fresh Christmas Wreath Workshop
DESCRIPTION:Interested in creating a fresh Christmas wreath for the holiday season? Neosho FFA is hosting a Fresh Christmas Wreath Workshop at the NSD Ag. Center on Monday\, December 15. All supplies are provided: wreath frame\, the fresh greens\, ribbon and refreshments. If you have ribbon you would like to use\, you are welcome to bring it.\n\n\n\nThis event is open to the public and limited to 30 participants. The cost is $30 per person.
X-ALT-DESC;FMTTYPE=text/html:<span style="color:rgb(8\, 8\, 9)\; font-family:arial\,sans-serif\; font-size:11.5pt">Interested in creating a fresh Christmas wreath for the holiday season? Neosho FFA is hosting a Fresh Christmas Wreath Workshop at the NSD Ag. Center on Monday\, December 15.&nbsp\;All supplies are provided: wreath frame\, the fresh greens\, ribbon and refreshments. If you have ribbon you would like to use\, you are welcome to bring it.<br />\n<br />\nThis event is open to the public and limited to 30 participants. The cost is $30 per person.</span>
LOCATION:NSD Ag. Center 14640 Kodiak Road Neosho\, MO 64850
UID:e.2144.18817
SEQUENCE:3
DTSTAMP:20260423T224720Z
URL:https://www.neoshocc.com/events/details/neosho-ffa-fresh-christmas-wreath-workshop-18817
END:VEVENT

END:VCALENDAR
