BEGIN:VCALENDAR
VERSION:2.0
PRODID:-//ChamberMaster//Event Calendar 2.0//EN
METHOD:PUBLISH
X-PUBLISHED-TTL:P3D
REFRESH-INTERVAL:P3D
CALSCALE:GREGORIAN
BEGIN:VEVENT
DTSTART:20250227T123000Z
DTEND:20250227T140000Z
X-MICROSOFT-CDO-ALLDAYEVENT:FALSE
SUMMARY:Neosho FFA's Annual Businessman's Breakfast
DESCRIPTION:The Neosho FFA invites you to a free appreciation breakfast as a thank-you for your support! Enjoy a delicious meal while connecting with local business leaders and learning more about the impact of FFA in our community.\n\n  Date: Thursday\, February 27\n\n  Time: 6:30 - 8:00 AM\n\n  Location: Neosho High School Ag. Building (511 S. Neosho Blvd.)
X-ALT-DESC;FMTTYPE=text/html:<p>The Neosho FFA invites you to a <strong>free appreciation breakfast</strong> as a thank-you for your support! Enjoy a delicious meal while connecting with local business leaders and learning more about the impact of FFA in our community.</p>\n\n<p>&#128197\; <strong>Date:</strong> Thursday\, February 27<br />\n&#9200\; <strong>Time:</strong> 6:30 - 8:00 AM<br />\n&#128205\; <strong>Location:</strong> Neosho High School Ag. Building (511 S. Neosho Blvd.)</p>\n
LOCATION:Neosho High School Ag. Building 511 S. Neosho Blvd.
UID:e.2144.14926
SEQUENCE:3
DTSTAMP:20260424T133132Z
URL:https://www.neoshocc.com/events/details/neosho-ffa-s-annual-businessman-s-breakfast-14926
END:VEVENT

END:VCALENDAR
