BEGIN:VCALENDAR
VERSION:2.0
PRODID:-//ChamberMaster//Event Calendar 2.0//EN
METHOD:PUBLISH
X-PUBLISHED-TTL:P3D
REFRESH-INTERVAL:P3D
CALSCALE:GREGORIAN
BEGIN:VEVENT
DTSTART:20260226T123000Z
DTEND:20260226T140000Z
X-MICROSOFT-CDO-ALLDAYEVENT:FALSE
SUMMARY:Neosho FFA's Annual Businessman's Breakfast
DESCRIPTION:Please join us fir Neosho FFA's Annual Businessman's Breakfast! \n\n\n\nJoin us for a free appreciation breakfast on Thursday\, February 26th from 6:30am-8:00am. \n\n\n\nBreakfast will be held at the Neosho Ag Center 14640 Kodiak Road\, Neosho\, Mo. \n\n\n\nThank you for your continued support of our program!
X-ALT-DESC;FMTTYPE=text/html:Please join us fir Neosho FFA&#39\;s Annual Businessman&#39\;s Breakfast!&nbsp\;<br />\n<br />\nJoin us for a free appreciation breakfast on Thursday\, February 26th from 6:30am-8:00am.&nbsp\;<br />\n<br />\nBreakfast will be held at the Neosho Ag Center 14640 Kodiak Road\, Neosho\, Mo.&nbsp\;<br />\n<br />\nThank you for your continued support of our program!&nbsp\;
LOCATION:Neosho Ag Center 14640 Kodiak Road\, Neosho\, Mo.
UID:e.2144.19145
SEQUENCE:3
DTSTAMP:20260423T193431Z
URL:https://www.neoshocc.com/events/details/neosho-ffa-s-annual-businessman-s-breakfast-19145
END:VEVENT

END:VCALENDAR
